BEGIN:VCALENDAR
VERSION:2.0
PRODID:-//The Meditation Center - ECPv6.15.20//NONSGML v1.0//EN
CALSCALE:GREGORIAN
METHOD:PUBLISH
X-ORIGINAL-URL:https://themeditationcenter.org
X-WR-CALDESC:Events for The Meditation Center
REFRESH-INTERVAL;VALUE=DURATION:PT1H
X-Robots-Tag:noindex
X-PUBLISHED-TTL:PT1H
BEGIN:VTIMEZONE
TZID:America/Chicago
BEGIN:DAYLIGHT
TZOFFSETFROM:-0600
TZOFFSETTO:-0500
TZNAME:CDT
DTSTART:20250309T080000
END:DAYLIGHT
BEGIN:STANDARD
TZOFFSETFROM:-0500
TZOFFSETTO:-0600
TZNAME:CST
DTSTART:20251102T070000
END:STANDARD
BEGIN:DAYLIGHT
TZOFFSETFROM:-0600
TZOFFSETTO:-0500
TZNAME:CDT
DTSTART:20260308T080000
END:DAYLIGHT
BEGIN:STANDARD
TZOFFSETFROM:-0500
TZOFFSETTO:-0600
TZNAME:CST
DTSTART:20261101T070000
END:STANDARD
BEGIN:DAYLIGHT
TZOFFSETFROM:-0600
TZOFFSETTO:-0500
TZNAME:CDT
DTSTART:20270314T080000
END:DAYLIGHT
BEGIN:STANDARD
TZOFFSETFROM:-0500
TZOFFSETTO:-0600
TZNAME:CST
DTSTART:20271107T070000
END:STANDARD
END:VTIMEZONE
BEGIN:VEVENT
DTSTART;TZID=America/Chicago:20260307T103000
DTEND;TZID=America/Chicago:20260307T120000
DTSTAMP:20260421T103228
CREATED:20260210T223959Z
LAST-MODIFIED:20260305T001912Z
UID:23082-1772879400-1772884800@themeditationcenter.org
SUMMARY:Join This Gentle Hatha Yoga Class In Person and Via Zoom at The Meditation Center (TMC) for Transformative Himalayan Yoga Classes
DESCRIPTION:[vc_row][vc_column][vc_column_text css=””] \n\nJoin In Person and Via Zoom at The Meditation Center (TMC) for Transformative Himalayan Yoga Classes\nDrop in on any Saturday for class. \nExperience the Unique Power of Himalayan Yoga \nAs taught by the yogis from the Himalayas— Himalayan Yoga combines gentle postures\, breathwork\, and mindful relaxation techniques to connect body\, mind\, and spirit resulting in healing from within. Whether you’re new or experienced\, this practice will leave you feeling relaxed\, focused\, and rejuvenated. \nBenefits of Himalayan Yoga: \n\n🌿 Enhanced flexibility\, balance\, and holistic strength\n🌿 Tools/Techniques to cope with stress\, anxiety and bring mental clarity\n🌿 Energizing breathwork to uplift and restore overall health\n\n🕒 Class Schedule: Every Saturday | 10:30 – Noon. Starting November 23\, 2024. \n💲 Pricing: Heartfelt donations ($10 suggested or pay what your heart desires and what you can…). All donations will go to support The Meditation Center. \n📍 Location\, parking & other essentials: The Meditation Center (TMC)\, 631 University Avenue NE\, Minneapolis\, MN 55413. Free parking is available across the street from TMC in the Church’s parking lot. Bring a water bottle. Yoga mat\, pillows and blankets provided. Please arrive 5 minutes early and get comfortable in “the Hall of Tradition” on the main floor. No registration needed. \nAbout Your Instructor: \nRodney Huff (Rajni) first came to the Center in January of 2000 and quickly took as many classes as he could. Since then he has traveled to India to study at Sadhana Mandir and Sadhaka Grama in  Rishikesh. He began teaching Hatha yoga in 2003 and has been a regular teacher of Hatha Yoga (I & II) as well as Meditation I. Rodney is grateful for the opportunity to teach at a place as special as the Meditation Center. The teachings he received transformed his life\, and he hopes that each of his students can have an equally rewarding experience. \nNo prior experience needed – “Come as you are\, and discover the calm within” \n[/vc_column_text][/vc_column][/vc_row]
URL:https://themeditationcenter.org/class/join-this-gentle-hatha-yoga-class-in-person-and-via-zoom-at-the-meditation-center-tmc-for-transformative-himalayan-yoga-classes-2026-03-07/
CATEGORIES:Classes,Hatha Yoga
ATTACH;FMTTYPE=image/jpeg:https://themeditationcenter.org/wp-content/uploads/2019/05/rodney300x200.jpg
END:VEVENT
END:VCALENDAR