BEGIN:VCALENDAR
VERSION:2.0
PRODID:-//The Meditation Center - ECPv6.15.20//NONSGML v1.0//EN
CALSCALE:GREGORIAN
METHOD:PUBLISH
X-ORIGINAL-URL:https://themeditationcenter.org
X-WR-CALDESC:Events for The Meditation Center
REFRESH-INTERVAL;VALUE=DURATION:PT1H
X-Robots-Tag:noindex
X-PUBLISHED-TTL:PT1H
BEGIN:VTIMEZONE
TZID:America/Chicago
BEGIN:DAYLIGHT
TZOFFSETFROM:-0600
TZOFFSETTO:-0500
TZNAME:CDT
DTSTART:20240310T080000
END:DAYLIGHT
BEGIN:STANDARD
TZOFFSETFROM:-0500
TZOFFSETTO:-0600
TZNAME:CST
DTSTART:20241103T070000
END:STANDARD
BEGIN:DAYLIGHT
TZOFFSETFROM:-0600
TZOFFSETTO:-0500
TZNAME:CDT
DTSTART:20250309T080000
END:DAYLIGHT
BEGIN:STANDARD
TZOFFSETFROM:-0500
TZOFFSETTO:-0600
TZNAME:CST
DTSTART:20251102T070000
END:STANDARD
BEGIN:DAYLIGHT
TZOFFSETFROM:-0600
TZOFFSETTO:-0500
TZNAME:CDT
DTSTART:20260308T080000
END:DAYLIGHT
BEGIN:STANDARD
TZOFFSETFROM:-0500
TZOFFSETTO:-0600
TZNAME:CST
DTSTART:20261101T070000
END:STANDARD
END:VTIMEZONE
BEGIN:VTIMEZONE
TZID:UTC
BEGIN:STANDARD
TZOFFSETFROM:+0000
TZOFFSETTO:+0000
TZNAME:UTC
DTSTART:20170101T000000
END:STANDARD
END:VTIMEZONE
BEGIN:VEVENT
DTSTART;TZID=America/Chicago:20250520T180000
DTEND;TZID=America/Chicago:20250520T190000
DTSTAMP:20260419T085021
CREATED:20250407T130204Z
LAST-MODIFIED:20250527T134457Z
UID:22319-1747764000-1747767600@themeditationcenter.org
SUMMARY:Cancelled - Tuesday Evening In Person "Yoga for Stress Relief" Series with Eric Ness Tuesdays: Ongoing
DESCRIPTION:Cancelled for May 20\, 2025\nTuesdays On-Going In Person “Yoga for Stress Relief” Series with Eric Ness\n6:00 -7:00 p.m. CST\nLimited to 6 students\n$10.00 for a single session\nRegister here\nAre you a busy professional struggling to find balance in the chaos of modern life? Do you yearn for a moment of calm amidst your hectic schedule? “Yoga for Stress Relief” is designed with you in mind. \n  \nAre you a busy professional struggling to find balance in the chaos of modern life? Do you yearn for a moment of calm amidst your hectic schedule? “Yoga for Stress Relief” is designed with you in mind. \nWhy This Class? \n\nTailored for busy lifestyles: Flexible attendance – come when you can\, leave if you must.\nStress-busting techniques: Learn practical methods to manage stress in daily life.\nAccessible to all: No prior yoga experience or fitness level required.\nMind-body connection: Discover how to use your breath and body awareness as anchors in stressful situations.\n\n\nWhat to Expect\nIn this class\, you’ll experience: \n\nGentle\, mindful movements to release physical tension\nGuided relaxation techniques to reduce stress\nA supportive\, non-judgmental environment\n\nThis isn’t a high-intensity workout – it’s a journey towards inner peace and resilience. Whether you’re on-call\, can only stay for part of the class\, or need to step out for a phone call\, you’re welcome here.\nThe Benefits\n\nReduced stress and anxiety\nImproved focus and productivity\nTools to manage daily stressors more effectively\n\nJoin us and discover a new way of navigating life’s challenges. Your path to a calmer\, more centered you begins here. \nEric Ness has been teaching meditation and yoga for over ten years. His teaching is based on the experiences that he had while immersed in a meditational environment. He deepened his study of meditation while participating in the residential program at the Meditation Center. He also trained for three years at the Swami Rama Institute for Meditation in India. His calm teaching style brings students the tools they need to move toward a peaceful state of mind. Eric is a member of the TMC Spiritual Committee.
URL:https://themeditationcenter.org/class/tuesday-evening-in-person-yoga-for-stress-relief-series-with-eric-ness-tuesdays-ongoing-2025-04-15-2025-05-20/
CATEGORIES:Hatha Yoga,Meeting
ATTACH;FMTTYPE=image/jpeg:https://themeditationcenter.org/wp-content/uploads/2021/09/Eric_Ness_3.jpg
END:VEVENT
BEGIN:VEVENT
DTSTART;TZID=America/Chicago:20250513T180000
DTEND;TZID=America/Chicago:20250513T190000
DTSTAMP:20260419T085021
CREATED:20250407T130204Z
LAST-MODIFIED:20250527T133744Z
UID:22318-1747159200-1747162800@themeditationcenter.org
SUMMARY:Tuesday Evening In Person "Yoga for Stress Relief" Series with Eric Ness Tuesdays: Ongoing
DESCRIPTION:Tuesdays On-Going In Person “Yoga for Stress Relief” Series with Eric Ness\n6:00 -7:00 p.m. CST\nLimited to 6 students\n$10.00 for a single session\nRegister here\nAre you a busy professional struggling to find balance in the chaos of modern life? Do you yearn for a moment of calm amidst your hectic schedule? “Yoga for Stress Relief” is designed with you in mind. \n  \nAre you a busy professional struggling to find balance in the chaos of modern life? Do you yearn for a moment of calm amidst your hectic schedule? “Yoga for Stress Relief” is designed with you in mind. \nWhy This Class? \n\nTailored for busy lifestyles: Flexible attendance – come when you can\, leave if you must.\nStress-busting techniques: Learn practical methods to manage stress in daily life.\nAccessible to all: No prior yoga experience or fitness level required.\nMind-body connection: Discover how to use your breath and body awareness as anchors in stressful situations.\n\n\nWhat to Expect\nIn this class\, you’ll experience: \n\nGentle\, mindful movements to release physical tension\nGuided relaxation techniques to reduce stress\nA supportive\, non-judgmental environment\n\nThis isn’t a high-intensity workout – it’s a journey towards inner peace and resilience. Whether you’re on-call\, can only stay for part of the class\, or need to step out for a phone call\, you’re welcome here.\nThe Benefits\n\nReduced stress and anxiety\nImproved focus and productivity\nTools to manage daily stressors more effectively\n\nJoin us and discover a new way of navigating life’s challenges. Your path to a calmer\, more centered you begins here. \nEric Ness has been teaching meditation and yoga for over ten years. His teaching is based on the experiences that he had while immersed in a meditational environment. He deepened his study of meditation while participating in the residential program at the Meditation Center. He also trained for three years at the Swami Rama Institute for Meditation in India. His calm teaching style brings students the tools they need to move toward a peaceful state of mind. Eric is a member of the TMC Spiritual Committee.
URL:https://themeditationcenter.org/class/tuesday-evening-in-person-yoga-for-stress-relief-series-with-eric-ness-tuesdays-ongoing-2025-04-15/2025-05-13/
CATEGORIES:Hatha Yoga,Meeting
ATTACH;FMTTYPE=image/jpeg:https://themeditationcenter.org/wp-content/uploads/2021/09/Eric_Ness_3.jpg
END:VEVENT
BEGIN:VEVENT
DTSTART;TZID=America/Chicago:20250506T180000
DTEND;TZID=America/Chicago:20250506T190000
DTSTAMP:20260419T085021
CREATED:20250407T130204Z
LAST-MODIFIED:20250527T133742Z
UID:22317-1746554400-1746558000@themeditationcenter.org
SUMMARY:Tuesday Evening In Person "Yoga for Stress Relief" Series with Eric Ness Tuesdays: Ongoing
DESCRIPTION:Tuesdays On-Going In Person “Yoga for Stress Relief” Series with Eric Ness\n6:00 -7:00 p.m. CST\nLimited to 6 students\n$10.00 for a single session\nRegister here\nAre you a busy professional struggling to find balance in the chaos of modern life? Do you yearn for a moment of calm amidst your hectic schedule? “Yoga for Stress Relief” is designed with you in mind. \n  \nAre you a busy professional struggling to find balance in the chaos of modern life? Do you yearn for a moment of calm amidst your hectic schedule? “Yoga for Stress Relief” is designed with you in mind. \nWhy This Class? \n\nTailored for busy lifestyles: Flexible attendance – come when you can\, leave if you must.\nStress-busting techniques: Learn practical methods to manage stress in daily life.\nAccessible to all: No prior yoga experience or fitness level required.\nMind-body connection: Discover how to use your breath and body awareness as anchors in stressful situations.\n\n\nWhat to Expect\nIn this class\, you’ll experience: \n\nGentle\, mindful movements to release physical tension\nGuided relaxation techniques to reduce stress\nA supportive\, non-judgmental environment\n\nThis isn’t a high-intensity workout – it’s a journey towards inner peace and resilience. Whether you’re on-call\, can only stay for part of the class\, or need to step out for a phone call\, you’re welcome here.\nThe Benefits\n\nReduced stress and anxiety\nImproved focus and productivity\nTools to manage daily stressors more effectively\n\nJoin us and discover a new way of navigating life’s challenges. Your path to a calmer\, more centered you begins here. \nEric Ness has been teaching meditation and yoga for over ten years. His teaching is based on the experiences that he had while immersed in a meditational environment. He deepened his study of meditation while participating in the residential program at the Meditation Center. He also trained for three years at the Swami Rama Institute for Meditation in India. His calm teaching style brings students the tools they need to move toward a peaceful state of mind. Eric is a member of the TMC Spiritual Committee.
URL:https://themeditationcenter.org/class/tuesday-evening-in-person-yoga-for-stress-relief-series-with-eric-ness-tuesdays-ongoing-2025-04-15/2025-05-06/
CATEGORIES:Hatha Yoga,Meeting
ATTACH;FMTTYPE=image/jpeg:https://themeditationcenter.org/wp-content/uploads/2021/09/Eric_Ness_3.jpg
END:VEVENT
BEGIN:VEVENT
DTSTART;TZID=America/Chicago:20250429T180000
DTEND;TZID=America/Chicago:20250429T190000
DTSTAMP:20260419T085021
CREATED:20250407T130204Z
LAST-MODIFIED:20250527T133741Z
UID:22316-1745949600-1745953200@themeditationcenter.org
SUMMARY:Tuesday Evening In Person "Yoga for Stress Relief" Series with Eric Ness Tuesdays: Ongoing
DESCRIPTION:Tuesdays On-Going In Person “Yoga for Stress Relief” Series with Eric Ness\n6:00 -7:00 p.m. CST\nLimited to 6 students\n$10.00 for a single session\nRegister here\nAre you a busy professional struggling to find balance in the chaos of modern life? Do you yearn for a moment of calm amidst your hectic schedule? “Yoga for Stress Relief” is designed with you in mind. \n  \nAre you a busy professional struggling to find balance in the chaos of modern life? Do you yearn for a moment of calm amidst your hectic schedule? “Yoga for Stress Relief” is designed with you in mind. \nWhy This Class? \n\nTailored for busy lifestyles: Flexible attendance – come when you can\, leave if you must.\nStress-busting techniques: Learn practical methods to manage stress in daily life.\nAccessible to all: No prior yoga experience or fitness level required.\nMind-body connection: Discover how to use your breath and body awareness as anchors in stressful situations.\n\n\nWhat to Expect\nIn this class\, you’ll experience: \n\nGentle\, mindful movements to release physical tension\nGuided relaxation techniques to reduce stress\nA supportive\, non-judgmental environment\n\nThis isn’t a high-intensity workout – it’s a journey towards inner peace and resilience. Whether you’re on-call\, can only stay for part of the class\, or need to step out for a phone call\, you’re welcome here.\nThe Benefits\n\nReduced stress and anxiety\nImproved focus and productivity\nTools to manage daily stressors more effectively\n\nJoin us and discover a new way of navigating life’s challenges. Your path to a calmer\, more centered you begins here. \nEric Ness has been teaching meditation and yoga for over ten years. His teaching is based on the experiences that he had while immersed in a meditational environment. He deepened his study of meditation while participating in the residential program at the Meditation Center. He also trained for three years at the Swami Rama Institute for Meditation in India. His calm teaching style brings students the tools they need to move toward a peaceful state of mind. Eric is a member of the TMC Spiritual Committee.
URL:https://themeditationcenter.org/class/tuesday-evening-in-person-yoga-for-stress-relief-series-with-eric-ness-tuesdays-ongoing-2025-04-15/2025-04-29/
CATEGORIES:Hatha Yoga,Meeting
ATTACH;FMTTYPE=image/jpeg:https://themeditationcenter.org/wp-content/uploads/2021/09/Eric_Ness_3.jpg
END:VEVENT
BEGIN:VEVENT
DTSTART;TZID=America/Chicago:20250422T180000
DTEND;TZID=America/Chicago:20250422T190000
DTSTAMP:20260419T085021
CREATED:20250407T130204Z
LAST-MODIFIED:20250527T133739Z
UID:22315-1745344800-1745348400@themeditationcenter.org
SUMMARY:Tuesday Evening In Person "Yoga for Stress Relief" Series with Eric Ness Tuesdays: Ongoing
DESCRIPTION:Tuesdays On-Going In Person “Yoga for Stress Relief” Series with Eric Ness\n6:00 -7:00 p.m. CST\nLimited to 6 students\n$10.00 for a single session\nRegister here\nAre you a busy professional struggling to find balance in the chaos of modern life? Do you yearn for a moment of calm amidst your hectic schedule? “Yoga for Stress Relief” is designed with you in mind. \n  \nAre you a busy professional struggling to find balance in the chaos of modern life? Do you yearn for a moment of calm amidst your hectic schedule? “Yoga for Stress Relief” is designed with you in mind. \nWhy This Class? \n\nTailored for busy lifestyles: Flexible attendance – come when you can\, leave if you must.\nStress-busting techniques: Learn practical methods to manage stress in daily life.\nAccessible to all: No prior yoga experience or fitness level required.\nMind-body connection: Discover how to use your breath and body awareness as anchors in stressful situations.\n\n\nWhat to Expect\nIn this class\, you’ll experience: \n\nGentle\, mindful movements to release physical tension\nGuided relaxation techniques to reduce stress\nA supportive\, non-judgmental environment\n\nThis isn’t a high-intensity workout – it’s a journey towards inner peace and resilience. Whether you’re on-call\, can only stay for part of the class\, or need to step out for a phone call\, you’re welcome here.\nThe Benefits\n\nReduced stress and anxiety\nImproved focus and productivity\nTools to manage daily stressors more effectively\n\nJoin us and discover a new way of navigating life’s challenges. Your path to a calmer\, more centered you begins here. \nEric Ness has been teaching meditation and yoga for over ten years. His teaching is based on the experiences that he had while immersed in a meditational environment. He deepened his study of meditation while participating in the residential program at the Meditation Center. He also trained for three years at the Swami Rama Institute for Meditation in India. His calm teaching style brings students the tools they need to move toward a peaceful state of mind. Eric is a member of the TMC Spiritual Committee.
URL:https://themeditationcenter.org/class/tuesday-evening-in-person-yoga-for-stress-relief-series-with-eric-ness-tuesdays-ongoing-2025-04-15/2025-04-22/
CATEGORIES:Hatha Yoga,Meeting
ATTACH;FMTTYPE=image/jpeg:https://themeditationcenter.org/wp-content/uploads/2021/09/Eric_Ness_3.jpg
END:VEVENT
BEGIN:VEVENT
DTSTART;TZID=America/Chicago:20250415T180000
DTEND;TZID=America/Chicago:20250415T190000
DTSTAMP:20260419T085021
CREATED:20250407T130204Z
LAST-MODIFIED:20250527T133733Z
UID:22314-1744740000-1744743600@themeditationcenter.org
SUMMARY:Tuesday Evening In Person "Yoga for Stress Relief" Series with Eric Ness Tuesdays: Ongoing
DESCRIPTION:Tuesdays On-Going In Person “Yoga for Stress Relief” Series with Eric Ness\n6:00 -7:00 p.m. CST\nLimited to 6 students\n$10.00 for a single session\nRegister here\nAre you a busy professional struggling to find balance in the chaos of modern life? Do you yearn for a moment of calm amidst your hectic schedule? “Yoga for Stress Relief” is designed with you in mind. \n  \nAre you a busy professional struggling to find balance in the chaos of modern life? Do you yearn for a moment of calm amidst your hectic schedule? “Yoga for Stress Relief” is designed with you in mind. \nWhy This Class? \n\nTailored for busy lifestyles: Flexible attendance – come when you can\, leave if you must.\nStress-busting techniques: Learn practical methods to manage stress in daily life.\nAccessible to all: No prior yoga experience or fitness level required.\nMind-body connection: Discover how to use your breath and body awareness as anchors in stressful situations.\n\n\nWhat to Expect\nIn this class\, you’ll experience: \n\nGentle\, mindful movements to release physical tension\nGuided relaxation techniques to reduce stress\nA supportive\, non-judgmental environment\n\nThis isn’t a high-intensity workout – it’s a journey towards inner peace and resilience. Whether you’re on-call\, can only stay for part of the class\, or need to step out for a phone call\, you’re welcome here.\nThe Benefits\n\nReduced stress and anxiety\nImproved focus and productivity\nTools to manage daily stressors more effectively\n\nJoin us and discover a new way of navigating life’s challenges. Your path to a calmer\, more centered you begins here. \nEric Ness has been teaching meditation and yoga for over ten years. His teaching is based on the experiences that he had while immersed in a meditational environment. He deepened his study of meditation while participating in the residential program at the Meditation Center. He also trained for three years at the Swami Rama Institute for Meditation in India. His calm teaching style brings students the tools they need to move toward a peaceful state of mind. Eric is a member of the TMC Spiritual Committee.
URL:https://themeditationcenter.org/class/tuesday-evening-in-person-yoga-for-stress-relief-series-with-eric-ness-tuesdays-ongoing-2025-04-15/2025-04-15/
CATEGORIES:Hatha Yoga,Meeting
ATTACH;FMTTYPE=image/jpeg:https://themeditationcenter.org/wp-content/uploads/2021/09/Eric_Ness_3.jpg
END:VEVENT
BEGIN:VEVENT
DTSTART;TZID=America/Chicago:20250408T180000
DTEND;TZID=America/Chicago:20250408T190000
DTSTAMP:20260419T085021
CREATED:20250407T130204Z
LAST-MODIFIED:20250407T134009Z
UID:22313-1744135200-1744138800@themeditationcenter.org
SUMMARY:Cancelled for April 8th - Tuesday Evening In Person "Yoga for Stress Relief" Series with Eric Ness Tuesdays: Ongoing
DESCRIPTION:Cancelled for April 8th\nTuesdays On-Going In Person “Yoga for Stress Relief” Series with Eric Ness\n6:00 -7:00 p.m. CST\nLimited to 6 students\n$10.00 for a single session\nAre you a busy professional struggling to find balance in the chaos of modern life? Do you yearn for a moment of calm amidst your hectic schedule? “Yoga for Stress Relief” is designed with you in mind. \nWhy This Class? \n\nTailored for busy lifestyles: Flexible attendance – come when you can\, leave if you must.\nStress-busting techniques: Learn practical methods to manage stress in daily life.\nAccessible to all: No prior yoga experience or fitness level required.\nMind-body connection: Discover how to use your breath and body awareness as anchors in stressful situations.\n\n\nWhat to Expect\nIn this class\, you’ll experience: \n\nGentle\, mindful movements to release physical tension\nGuided relaxation techniques to reduce stress\nA supportive\, non-judgmental environment\n\nThis isn’t a high-intensity workout – it’s a journey towards inner peace and resilience. Whether you’re on-call\, can only stay for part of the class\, or need to step out for a phone call\, you’re welcome here.\nThe Benefits\n\nReduced stress and anxiety\nImproved focus and productivity\nTools to manage daily stressors more effectively\n\nJoin us and discover a new way of navigating life’s challenges. Your path to a calmer\, more centered you begins here. \nEric Ness has been teaching meditation and yoga for over ten years. His teaching is based on the experiences that he had while immersed in a meditational environment. He deepened his study of meditation while participating in the residential program at the Meditation Center. He also trained for three years at the Swami Rama Institute for Meditation in India. His calm teaching style brings students the tools they need to move toward a peaceful state of mind. Eric is a member of the TMC Spiritual Committee.
URL:https://themeditationcenter.org/class/tuesday-evening-in-person-yoga-for-stress-relief-series-with-eric-ness-tuesdays-ongoing-2025-04-08/
CATEGORIES:Hatha Yoga,Meeting
ATTACH;FMTTYPE=image/jpeg:https://themeditationcenter.org/wp-content/uploads/2021/09/Eric_Ness_3.jpg
END:VEVENT
BEGIN:VEVENT
DTSTART;TZID=America/Chicago:20250401T180000
DTEND;TZID=America/Chicago:20250401T190000
DTSTAMP:20260419T085021
CREATED:20250407T130204Z
LAST-MODIFIED:20250407T134258Z
UID:22312-1743530400-1743534000@themeditationcenter.org
SUMMARY:Tuesday Evening In Person "Yoga for Stress Relief" Series with Eric Ness Tuesdays: Ongoing
DESCRIPTION:Tuesdays On-Going In Person “Yoga for Stress Relief” Series with Eric Ness\n6:00 -7:00 p.m. CST\nLimited to 6 students\n$10.00 for a single session\nRegister here\nAre you a busy professional struggling to find balance in the chaos of modern life? Do you yearn for a moment of calm amidst your hectic schedule? “Yoga for Stress Relief” is designed with you in mind. \n  \nAre you a busy professional struggling to find balance in the chaos of modern life? Do you yearn for a moment of calm amidst your hectic schedule? “Yoga for Stress Relief” is designed with you in mind. \nWhy This Class? \n\nTailored for busy lifestyles: Flexible attendance – come when you can\, leave if you must.\nStress-busting techniques: Learn practical methods to manage stress in daily life.\nAccessible to all: No prior yoga experience or fitness level required.\nMind-body connection: Discover how to use your breath and body awareness as anchors in stressful situations.\n\n\nWhat to Expect\nIn this class\, you’ll experience: \n\nGentle\, mindful movements to release physical tension\nGuided relaxation techniques to reduce stress\nA supportive\, non-judgmental environment\n\nThis isn’t a high-intensity workout – it’s a journey towards inner peace and resilience. Whether you’re on-call\, can only stay for part of the class\, or need to step out for a phone call\, you’re welcome here.\nThe Benefits\n\nReduced stress and anxiety\nImproved focus and productivity\nTools to manage daily stressors more effectively\n\nJoin us and discover a new way of navigating life’s challenges. Your path to a calmer\, more centered you begins here. \nEric Ness has been teaching meditation and yoga for over ten years. His teaching is based on the experiences that he had while immersed in a meditational environment. He deepened his study of meditation while participating in the residential program at the Meditation Center. He also trained for three years at the Swami Rama Institute for Meditation in India. His calm teaching style brings students the tools they need to move toward a peaceful state of mind. Eric is a member of the TMC Spiritual Committee.
URL:https://themeditationcenter.org/class/tuesday-evening-in-person-yoga-for-stress-relief-series-with-eric-ness-tuesdays-ongoing/
CATEGORIES:Hatha Yoga,Meeting
ATTACH;FMTTYPE=image/jpeg:https://themeditationcenter.org/wp-content/uploads/2021/09/Eric_Ness_3.jpg
END:VEVENT
BEGIN:VEVENT
DTSTART;TZID=UTC:20180913T170000
DTEND;TZID=UTC:20180913T190000
DTSTAMP:20260419T085021
CREATED:20180910T223026Z
LAST-MODIFIED:20180910T223026Z
UID:6938-1536858000-1536865200@themeditationcenter.org
SUMMARY:50th Anniversary Committee Planning Meeting - September 13\, 2018 at 5:00 p.m.
DESCRIPTION:50th Anniversary Committee Planning Meeting\nThe 50th anniversary committee will hold a planning meeting this Thursday at 5:00 p.m. at The Meditation Center. Please bring a heart full of gratitude and an imagination full of blissful ideas so that we can honor our last 50 years and enable the next 50. There will be many areas of interest including: history\, photos\, collecting memories\, reconnecting with old friends\, sharing our varied paths\, chanting together\, charting future needs and directions\, improving services offered\, and generally resacralizing our life courses\, etc.  please add your interests and expertise. We have to get ready for 2019’s Jubilee 49 year dedication and reunion as well as for 2020’s 50th anniversary.
URL:https://themeditationcenter.org/class/50th-anniversary-committee-planning-meeting-september-13-2018-at-500-p-m/
CATEGORIES:Meeting
ATTACH;FMTTYPE=image/jpeg:https://themeditationcenter.org/wp-content/uploads/2017/11/John-Wilson_November_28-_wp-1-1.jpg
END:VEVENT
END:VCALENDAR