BEGIN:VCALENDAR
VERSION:2.0
PRODID:-//The Meditation Center - ECPv6.15.20//NONSGML v1.0//EN
CALSCALE:GREGORIAN
METHOD:PUBLISH
X-WR-CALNAME:The Meditation Center
X-ORIGINAL-URL:https://themeditationcenter.org
X-WR-CALDESC:Events for The Meditation Center
REFRESH-INTERVAL;VALUE=DURATION:PT1H
X-Robots-Tag:noindex
X-PUBLISHED-TTL:PT1H
BEGIN:VTIMEZONE
TZID:America/Chicago
BEGIN:DAYLIGHT
TZOFFSETFROM:-0600
TZOFFSETTO:-0500
TZNAME:CDT
DTSTART:20230312T080000
END:DAYLIGHT
BEGIN:STANDARD
TZOFFSETFROM:-0500
TZOFFSETTO:-0600
TZNAME:CST
DTSTART:20231105T070000
END:STANDARD
BEGIN:DAYLIGHT
TZOFFSETFROM:-0600
TZOFFSETTO:-0500
TZNAME:CDT
DTSTART:20240310T080000
END:DAYLIGHT
BEGIN:STANDARD
TZOFFSETFROM:-0500
TZOFFSETTO:-0600
TZNAME:CST
DTSTART:20241103T070000
END:STANDARD
BEGIN:DAYLIGHT
TZOFFSETFROM:-0600
TZOFFSETTO:-0500
TZNAME:CDT
DTSTART:20250309T080000
END:DAYLIGHT
BEGIN:STANDARD
TZOFFSETFROM:-0500
TZOFFSETTO:-0600
TZNAME:CST
DTSTART:20251102T070000
END:STANDARD
END:VTIMEZONE
BEGIN:VEVENT
DTSTART;TZID=America/Chicago:20240711T190000
DTEND;TZID=America/Chicago:20240711T203000
DTSTAMP:20260423T100355
CREATED:20240628T181832Z
LAST-MODIFIED:20240628T182400Z
UID:21240-1720724400-1720729800@themeditationcenter.org
SUMMARY:Thursday Satsang In Person and Via Zoom: "Remembering Swami Veda Bharati" Ninth Anniversary Commemoration of Swami Veda Bharati's Mahasamadhi - July 11\, 2024
DESCRIPTION: Thursday Satsang In Person and Via Zoom – July 11\, 2024\n“Remembering Swami Veda Bharati”\n7:00 p.m. – 8:30 p.m. CDT\n\n	\n\n\n5:30-6:45 p.m.: In-Person Hatha Yoga – TBD\n6:15-7:00 p.m. – Vegan Soup\n7:00-8:00 p.m.: Commemoration of the Mahasamadhi of Swami Veda\n8:00-8:30 p.m.: Meditation with Swami Radha Bharati\n8:30 p.m.: Evening Prayers\n\n	\n\n\nJoin us to remember Swami Veda Bharati.\n\n	\n\n\n\n Thursday\, July 11th\, is the commemoration at TMC of\nSwami Veda’s Mahasamadhi Anniversary which falls on July 14th.\n\n	\n\n\n\nDetails to come.\n\nJoin us\, either in person or via Zoom\, for a special Thursday Satsang to commemorate the ninth anniversary of the Mahasamadhi of Swami Veda Bharati. Swami Veda entered Mahasamadhi on July 14\, 2015.
URL:https://themeditationcenter.org/class/thursday-satsang-in-person-and-via-zoom-remembering-swami-veda-bharati-ninth-anniversary-commemoration-of-swami-veda-bharatis-mahasamadhi-july-11-2024/
CATEGORIES:Thursday Satsangs
ATTACH;FMTTYPE=image/jpeg:https://themeditationcenter.org/wp-content/uploads/2021/03/Blessings-SVB-e1719598894835.jpg
END:VEVENT
END:VCALENDAR