BEGIN:VCALENDAR
VERSION:2.0
PRODID:-//The Meditation Center - ECPv6.15.20//NONSGML v1.0//EN
CALSCALE:GREGORIAN
METHOD:PUBLISH
X-WR-CALNAME:The Meditation Center
X-ORIGINAL-URL:https://themeditationcenter.org
X-WR-CALDESC:Events for The Meditation Center
REFRESH-INTERVAL;VALUE=DURATION:PT1H
X-Robots-Tag:noindex
X-PUBLISHED-TTL:PT1H
BEGIN:VTIMEZONE
TZID:UTC
BEGIN:STANDARD
TZOFFSETFROM:+0000
TZOFFSETTO:+0000
TZNAME:UTC
DTSTART:20170101T000000
END:STANDARD
END:VTIMEZONE
BEGIN:VEVENT
DTSTART;TZID=UTC:20180802T180000
DTEND;TZID=UTC:20180802T210000
DTSTAMP:20260422T113415
CREATED:20180731T022919Z
LAST-MODIFIED:20180731T022919Z
UID:6759-1533232800-1533243600@themeditationcenter.org
SUMMARY:Thursday Satsang:  "Forty-Day Spiritual Festival\, Insights and Stories" with Michael Smith and Jim Nelson - Thursday Satsang:"Forty-Day Spiritual Festival   Insights and Stories" with Michael Smith and Jim Nelson - August 2\, 2018
DESCRIPTION:Thursday Satsang – August 2\, 2018\n\n\n\n\n\n\n “Forty-Day Spiritual Festival\, Insights and Stories”\nwith Michael Smith and Jim Nelson\n[divider line_type=”No Line” custom_height=””]\n\n\n\nOn Sunday\, July 29th\, two days after Guru Purnima\,  there was a  Special Sunday Session where people checked in and shared the stories that have unfolded over the summer in terms of trying to keep a regular schedule with one’s yoga sadhana and one’s meditation time. Out of that discussion came many beneficial insights which Jim and Michael would like to share.  Because Thursday will be a discussion format\, we can be assured that many helpful insights will come.\n\n[divider line_type=”No Line” custom_height=””]\n\nHow have the last few months been going? How has life been treating you?  Any peak experiences? Insights? Do you have any areas of study which you feel would be particularly valuable for future Thursday and Sunday sessions?\n\n[divider line_type=”No Line” custom_height=””]\nOur spirits will rise as we rekindle the love and community. Swami Veda often reminded us that during challenging times personally\, and in the larger society\, the Sangha is a clarifying refuge to guide our thoughts\, speech\, and actions.\n[divider line_type=”No Line” custom_height=””]\n\n\n\n\n\n\n\n\n\n\n6:00pm Hatha Yoga with Mary Bowman-Cline\n7:00pm Meditation guided by Swami Radha Bharati\n7:30pm Presentation by Michael Smith\n8:30pm Soup\n9:00pm Prayers and Meditation\n[divider line_type=”No Line” custom_height=””]\n\n\n\n\nAll are welcome! Come for the entire evening\, or join at any time. There is no need to make reservations. Simply show up and enjoy yourself!\nWeekly Format:\n6:00 – 7:00: Hatha Yoga for Everyone! ($10)\n7:00 – 7:30: Guided Meditation (free!)\n7:30 – 8:30: Inspiring Presentation and discussion (donation appreciated)\n8:30 – 9:00: Vegetarian soup (suggested donation $3)\n9:00: Evening Prayers and Clean-up
URL:https://themeditationcenter.org/class/thursday-satsang-forty-day-spiritual-festival-insights-and-stories-with-michael-smith-and-jim-nelson-thursday-satsangforty-day-spiritual-festival-insights-and-stories-with-michael-smit/
CATEGORIES:Satsangs,Thursday Satsangs
ATTACH;FMTTYPE=image/jpeg:https://themeditationcenter.org/wp-content/uploads/2018/07/marigold-lotus_wp-1-1.jpg
END:VEVENT
END:VCALENDAR