BEGIN:VCALENDAR
VERSION:2.0
PRODID:-//The Meditation Center - ECPv6.15.20//NONSGML v1.0//EN
CALSCALE:GREGORIAN
METHOD:PUBLISH
X-WR-CALNAME:The Meditation Center
X-ORIGINAL-URL:https://themeditationcenter.org
X-WR-CALDESC:Events for The Meditation Center
REFRESH-INTERVAL;VALUE=DURATION:PT1H
X-Robots-Tag:noindex
X-PUBLISHED-TTL:PT1H
BEGIN:VTIMEZONE
TZID:UTC
BEGIN:STANDARD
TZOFFSETFROM:+0000
TZOFFSETTO:+0000
TZNAME:UTC
DTSTART:20180101T000000
END:STANDARD
END:VTIMEZONE
BEGIN:VEVENT
DTSTART;TZID=UTC:20191121T180000
DTEND;TZID=UTC:20191121T210000
DTSTAMP:20260421T084931
CREATED:20191011T050346Z
LAST-MODIFIED:20191011T050346Z
UID:16290-1574359200-1574370000@themeditationcenter.org
SUMMARY:Thursday Satsang: A Musical Evening with Chris Young - Songs of Gratitude - November 21\, 2019
DESCRIPTION:Thursday Satsang – November 21\, 2019\n“A Musical Evening with Chris Young – Songs of Gratitude”\n \nJoin us for an evening of music with Chris Young. We will explore and celebrate thanksgiving and gratitude through music and song.
URL:https://themeditationcenter.org/class/thursday-satsang-a-musical-evening-with-chris-young-songs-of-gratitude-november-21-2019/
CATEGORIES:Thursday Satsangs
ATTACH;FMTTYPE=image/jpeg:https://themeditationcenter.org/wp-content/uploads/2019/08/harmonium_wp.jpg
END:VEVENT
END:VCALENDAR