BEGIN:VCALENDAR
VERSION:2.0
PRODID:-//The Meditation Center - ECPv6.15.20//NONSGML v1.0//EN
CALSCALE:GREGORIAN
METHOD:PUBLISH
X-ORIGINAL-URL:https://themeditationcenter.org
X-WR-CALDESC:Events for The Meditation Center
REFRESH-INTERVAL;VALUE=DURATION:PT1H
X-Robots-Tag:noindex
X-PUBLISHED-TTL:PT1H
BEGIN:VTIMEZONE
TZID:America/Chicago
BEGIN:DAYLIGHT
TZOFFSETFROM:-0600
TZOFFSETTO:-0500
TZNAME:CDT
DTSTART:20230312T080000
END:DAYLIGHT
BEGIN:STANDARD
TZOFFSETFROM:-0500
TZOFFSETTO:-0600
TZNAME:CST
DTSTART:20231105T070000
END:STANDARD
BEGIN:DAYLIGHT
TZOFFSETFROM:-0600
TZOFFSETTO:-0500
TZNAME:CDT
DTSTART:20240310T080000
END:DAYLIGHT
BEGIN:STANDARD
TZOFFSETFROM:-0500
TZOFFSETTO:-0600
TZNAME:CST
DTSTART:20241103T070000
END:STANDARD
BEGIN:DAYLIGHT
TZOFFSETFROM:-0600
TZOFFSETTO:-0500
TZNAME:CDT
DTSTART:20250309T080000
END:DAYLIGHT
BEGIN:STANDARD
TZOFFSETFROM:-0500
TZOFFSETTO:-0600
TZNAME:CST
DTSTART:20251102T070000
END:STANDARD
END:VTIMEZONE
BEGIN:VEVENT
DTSTART;TZID=America/Chicago:20240822T190000
DTEND;TZID=America/Chicago:20240822T203000
DTSTAMP:20260419T194524
CREATED:20240822T164546Z
LAST-MODIFIED:20240822T164651Z
UID:21429-1724353200-1724358600@themeditationcenter.org
SUMMARY:Thursday Satsang In Person and Via Zoom:"Our Collective Vision for 2025 and The Decade of Loving Transformation" with Swami Ritavan Bharati - August 22\, 2024
DESCRIPTION:Thursday Satsang In Person at TMC and via Zoom – August 22\, 2024\nAn Evening with Swami Ritavan Bharati\n“Our Collective Vision for 2025 and The Decade of Loving Transformation”\n7:00-8:30 p.m. CDT\n  \n 5:30-6:45 p.m.: In-Person Gentle Hatha Yoga – Our beloved ashramite\, Chu\, will be guiding this session.\nJoin Chu for a beautifully guided hatha class before he leaves TMC at the end of August.\n7:00-7:30 p.m.: Meditation Guided by Swami Ritavan Bharati\n7:30-8:30 p.m.: An Evening with Swami Ritavan Bharati\n“Our Collective Vision for 2025 and The Decade of Loving Transformation”\n8:30 p.m.: Evening Prayers\n  \nWe are blessed with the love and light of our guru-guided path through those words: Love\, Serve\, Remember. We remain steadfast to continue on the path of light serving selflessly as our expression of gratitude. The essence of sacrifice is giving selflessly. It is a complete expression of love in the true sense. We have learned to be content with our essential needs fulfilled using our resources in service of others. We are all here for a purpose; it is an ongoing spiritual process. We are all here for spiritual liberation and to serve that mission. This spiritual path\, the Guru’s mission\, is alleviating pain and suffering in the world; and to recommit to our path of Mantra-Meditation\, Honoring the Sacredness of Life. \n  \nTo support the work of The Meditation Center and register you can donate here (suggested donation $15.00) for Thursday Satsang or make a general donation by clicking on the “donate” button on the “Support TMC” website page. \nOr donate through PayPal. \nNote: There is parking available for TMC visitors in the St. Boniface lot across the street from the Center.
URL:https://themeditationcenter.org/class/thursday-satsang-in-person-and-via-zoomour-collective-vision-for-2025-and-the-decade-of-loving-transformation-with-swami-ritavan-august-22-2024/
CATEGORIES:Thursday Satsangs
ATTACH;FMTTYPE=image/jpeg:https://themeditationcenter.org/wp-content/uploads/2019/04/Interview_Swami-Ritavan_2018_SRSG_wp-1.jpg
END:VEVENT
END:VCALENDAR