BEGIN:VCALENDAR
VERSION:2.0
PRODID:-//The Meditation Center - ECPv6.15.20//NONSGML v1.0//EN
CALSCALE:GREGORIAN
METHOD:PUBLISH
X-ORIGINAL-URL:https://themeditationcenter.org
X-WR-CALDESC:Events for The Meditation Center
REFRESH-INTERVAL;VALUE=DURATION:PT1H
X-Robots-Tag:noindex
X-PUBLISHED-TTL:PT1H
BEGIN:VTIMEZONE
TZID:America/Chicago
BEGIN:DAYLIGHT
TZOFFSETFROM:-0600
TZOFFSETTO:-0500
TZNAME:CDT
DTSTART:20240310T080000
END:DAYLIGHT
BEGIN:STANDARD
TZOFFSETFROM:-0500
TZOFFSETTO:-0600
TZNAME:CST
DTSTART:20241103T070000
END:STANDARD
BEGIN:DAYLIGHT
TZOFFSETFROM:-0600
TZOFFSETTO:-0500
TZNAME:CDT
DTSTART:20250309T080000
END:DAYLIGHT
BEGIN:STANDARD
TZOFFSETFROM:-0500
TZOFFSETTO:-0600
TZNAME:CST
DTSTART:20251102T070000
END:STANDARD
BEGIN:DAYLIGHT
TZOFFSETFROM:-0600
TZOFFSETTO:-0500
TZNAME:CDT
DTSTART:20260308T080000
END:DAYLIGHT
BEGIN:STANDARD
TZOFFSETFROM:-0500
TZOFFSETTO:-0600
TZNAME:CST
DTSTART:20261101T070000
END:STANDARD
END:VTIMEZONE
BEGIN:VEVENT
DTSTART;TZID=America/Chicago:20250504T100000
DTEND;TZID=America/Chicago:20250504T113000
DTSTAMP:20260419T085126
CREATED:20250220T003356Z
LAST-MODIFIED:20250527T135323Z
UID:22228-1746352800-1746358200@themeditationcenter.org
SUMMARY:Sunday Book Study Group Via Zoom with Swami Ma Radha Bharati\, Michael Smith\, and Emilio Bettaglio
DESCRIPTION:Sunday Book Study Group Via Zoom\nwith Swami Ma Radha Bharati\, Michael Smith\, and Emilio Bettaglio\n10:00 a.m. – 11:30 a.m.\nTime:  10:00 a.m. – 11:30 a.m. \nSwami Radha\,  Emilio\, and Michael will continue the study of spiritual topics in 2025 The Book Study Group is reading “A Call to Humanity” (old title) or “Spirituality: Transformation Within and Without” (new title)  by Swami Rama.  Join us for very interesting discussions. Everyone is welcome. \n 
URL:https://themeditationcenter.org/class/sunday-book-study-group-via-zoom-with-swami-ma-radha-bharati-michael-smith-and-emilio-bettaglio/2025-05-04/
CATEGORIES:Sunday Satsangs
ATTACH;FMTTYPE=image/jpeg:https://themeditationcenter.org/wp-content/uploads/2017/09/Swami_Rama_Gentle_wp-1-1.jpg
END:VEVENT
BEGIN:VEVENT
DTSTART;TZID=America/Chicago:20250511T100000
DTEND;TZID=America/Chicago:20250511T113000
DTSTAMP:20260419T085127
CREATED:20250220T003356Z
LAST-MODIFIED:20250527T135324Z
UID:22229-1746957600-1746963000@themeditationcenter.org
SUMMARY:Sunday Book Study Group Via Zoom with Swami Ma Radha Bharati\, Michael Smith\, and Emilio Bettaglio
DESCRIPTION:Sunday Book Study Group Via Zoom\nwith Swami Ma Radha Bharati\, Michael Smith\, and Emilio Bettaglio\n10:00 a.m. – 11:30 a.m.\nTime:  10:00 a.m. – 11:30 a.m. \nSwami Radha\,  Emilio\, and Michael will continue the study of spiritual topics in 2025 The Book Study Group is reading “A Call to Humanity” (old title) or “Spirituality: Transformation Within and Without” (new title)  by Swami Rama.  Join us for very interesting discussions. Everyone is welcome. \n 
URL:https://themeditationcenter.org/class/sunday-book-study-group-via-zoom-with-swami-ma-radha-bharati-michael-smith-and-emilio-bettaglio/2025-05-11/
CATEGORIES:Sunday Satsangs
ATTACH;FMTTYPE=image/jpeg:https://themeditationcenter.org/wp-content/uploads/2017/09/Swami_Rama_Gentle_wp-1-1.jpg
END:VEVENT
BEGIN:VEVENT
DTSTART;TZID=America/Chicago:20250518T100000
DTEND;TZID=America/Chicago:20250518T113000
DTSTAMP:20260419T085127
CREATED:20250220T003356Z
LAST-MODIFIED:20250527T135334Z
UID:22230-1747562400-1747567800@themeditationcenter.org
SUMMARY:Sunday Book Study Group Via Zoom with Swami Ma Radha Bharati\, Michael Smith\, and Emilio Bettaglio
DESCRIPTION:Sunday Book Study Group Via Zoom\nwith Swami Ma Radha Bharati\, Michael Smith\, and Emilio Bettaglio\n10:00 a.m. – 11:30 a.m.\nTime:  10:00 a.m. – 11:30 a.m. \nSwami Radha\,  Emilio\, and Michael will continue the study of spiritual topics in 2025 The Book Study Group is reading “A Call to Humanity” (old title) or “Spirituality: Transformation Within and Without” (new title)  by Swami Rama.  Join us for very interesting discussions. Everyone is welcome. \n 
URL:https://themeditationcenter.org/class/sunday-book-study-group-via-zoom-with-swami-ma-radha-bharati-michael-smith-and-emilio-bettaglio/2025-05-18/
CATEGORIES:Sunday Satsangs
ATTACH;FMTTYPE=image/jpeg:https://themeditationcenter.org/wp-content/uploads/2017/09/Swami_Rama_Gentle_wp-1-1.jpg
END:VEVENT
BEGIN:VEVENT
DTSTART;TZID=America/Chicago:20250525T100000
DTEND;TZID=America/Chicago:20250525T113000
DTSTAMP:20260419T085127
CREATED:20250220T003356Z
LAST-MODIFIED:20250527T135334Z
UID:22231-1748167200-1748172600@themeditationcenter.org
SUMMARY:Sunday Book Study Group Via Zoom with Swami Ma Radha Bharati\, Michael Smith\, and Emilio Bettaglio
DESCRIPTION:Sunday Book Study Group Via Zoom\nwith Swami Ma Radha Bharati\, Michael Smith\, and Emilio Bettaglio\n10:00 a.m. – 11:30 a.m.\nTime:  10:00 a.m. – 11:30 a.m. \nSwami Radha\,  Emilio\, and Michael will continue the study of spiritual topics in 2025 The Book Study Group is reading “A Call to Humanity” (old title) or “Spirituality: Transformation Within and Without” (new title)  by Swami Rama.  Join us for very interesting discussions. Everyone is welcome. \n 
URL:https://themeditationcenter.org/class/sunday-book-study-group-via-zoom-with-swami-ma-radha-bharati-michael-smith-and-emilio-bettaglio/2025-05-25/
CATEGORIES:Sunday Satsangs
ATTACH;FMTTYPE=image/jpeg:https://themeditationcenter.org/wp-content/uploads/2017/09/Swami_Rama_Gentle_wp-1-1.jpg
END:VEVENT
END:VCALENDAR