BEGIN:VCALENDAR
VERSION:2.0
PRODID:-//The Meditation Center - ECPv6.15.20//NONSGML v1.0//EN
CALSCALE:GREGORIAN
METHOD:PUBLISH
X-ORIGINAL-URL:https://themeditationcenter.org
X-WR-CALDESC:Events for The Meditation Center
REFRESH-INTERVAL;VALUE=DURATION:PT1H
X-Robots-Tag:noindex
X-PUBLISHED-TTL:PT1H
BEGIN:VTIMEZONE
TZID:America/Chicago
BEGIN:DAYLIGHT
TZOFFSETFROM:-0600
TZOFFSETTO:-0500
TZNAME:CDT
DTSTART:20240310T080000
END:DAYLIGHT
BEGIN:STANDARD
TZOFFSETFROM:-0500
TZOFFSETTO:-0600
TZNAME:CST
DTSTART:20241103T070000
END:STANDARD
BEGIN:DAYLIGHT
TZOFFSETFROM:-0600
TZOFFSETTO:-0500
TZNAME:CDT
DTSTART:20250309T080000
END:DAYLIGHT
BEGIN:STANDARD
TZOFFSETFROM:-0500
TZOFFSETTO:-0600
TZNAME:CST
DTSTART:20251102T070000
END:STANDARD
BEGIN:DAYLIGHT
TZOFFSETFROM:-0600
TZOFFSETTO:-0500
TZNAME:CDT
DTSTART:20260308T080000
END:DAYLIGHT
BEGIN:STANDARD
TZOFFSETFROM:-0500
TZOFFSETTO:-0600
TZNAME:CST
DTSTART:20261101T070000
END:STANDARD
END:VTIMEZONE
BEGIN:VEVENT
DTSTART;TZID=America/Chicago:20250306T190000
DTEND;TZID=America/Chicago:20250306T203000
DTSTAMP:20260419T160227
CREATED:20250219T221943Z
LAST-MODIFIED:20250305T195036Z
UID:22209-1741287600-1741293000@themeditationcenter.org
SUMMARY:Thursday Satsang Via Zoom and In-Person Viewing at TMC: “Tantraloka – Time & the Breath”\, Part II  with Gary Gran CYT\, DAy - March 6\, 2025
DESCRIPTION:Thursday Satsang Via Zoom and In-Person Viewing at TMC – March 6\, 2025\n“Tantraloka – Time & the Breath – Part II with Gary Gran CYT\, DAy\n7:00-8:30 p.m. CST\nEveryone is Welcome!\n  \n5:30-6:45 p.m.: Gentle Hatha Yoga \n7:00-7:30 p.m. Guided Meditation \n7:30-8:30 p.m.: “Tantraloka – Time & the Breath – Part II”  with Gary Gran\n8:30 p.m.: Evening Prayers \n\n	\n\n\nPlease join us as we continue our study of Chapter 6 of the highly regarded Tantraloka of Abhinavagupta on the correlation of time and the breath. Attendance at the first talk is not required. All are welcome! \nWe will be honoring the translator of our text\, Mark Dyczkowski\, who recently made his transition. Om Shivo Ham. \nWe’ll continue studying the central breath practice as presented in the text\, and see how it is related to the Kalachakra\, or Wheel of Time. The Kalachakra is a fascinating weave that includes elements of pranayama\, meditation\, astrology\, vastu shastra\, and cosmology. We’ll also take a look at some cross-cultural comparisons\, and attempt to reveal some of the universal elements of our shared experience of life on Earth. \nWhy is this teaching important for us to understand today? \nThrough this teaching\, perhaps we can begin to understand our true relationship with time\, life on earth\, the universe\, and the very life force that sustains us all. There will be plenty of tips on how to enhance our meditation practice. Please join us as we contemplate our place in the universe together. All are welcome. \n“The tantras speak of a weave\, a warp and a woof of the universe… The entire universe is a grid of single energy\, in which grid I too have a little place\, a little corner. I am connected to the grid and cannot be separate from the grid…Experiencing it is the work of the Tantra.” – Swami Veda \n  \nThe “Tantraloka” (Light of the Tantras) is considered to be the magnum opus of Abhinavagupta\, the 10 th -11 th century polymath of Kashmir. In 37 chapters\, hemsynthesized the various schools of tantra into a unified whole. \nGary Gran\, CYT\, DAy.  Gary and his wife Cynthia have been treading the Himalayan path since the late 1970s. They met at the old Glenview Center in Illinois and have served the tradition in various capacities over the years. They are both certified yoga teachers and Ayurvedic educators. They have published more than eighty articles on yoga\, meditation and Ayurveda.\nThey are currently wintering in Tucson\, Arizona where they enjoy desert gardening\, cooking and hiking. \nTo support the work of The Meditation Center and register you can donate here or make a general donation by clicking on the “donate” button on the “Support TMC” website page. \nOr donate through PayPal. \nThere is parking available for TMC visitors in the St. Boniface lot across the street from the Center.
URL:https://themeditationcenter.org/class/thursday-satsang-via-zoom-and-in-person-viewing-at-tmc-tantraloka-time-the-breath-part-ii-with-gary-gran-cyt-day-march-6-2025/
CATEGORIES:Thursday Satsangs
ATTACH;FMTTYPE=image/jpeg:https://themeditationcenter.org/wp-content/uploads/2025/02/Mandala_Depicting_Kalachakra_and_Vishvamata_Tibet-e1740610314260.jpg
END:VEVENT
BEGIN:VEVENT
DTSTART;TZID=America/Chicago:20250313T190000
DTEND;TZID=America/Chicago:20250313T203000
DTSTAMP:20260419T160228
CREATED:20250219T222239Z
LAST-MODIFIED:20250305T171407Z
UID:22210-1741892400-1741897800@themeditationcenter.org
SUMMARY:Thursday Satsang Via Zoom and In-Person Viewing at TMC: “Tantraloka – Time & the Breath - Part III"  with Gary Gran CYT\, DAy - March 13\, 2025
DESCRIPTION:Thursday Satsang Via Zoom and In-Person Viewing at TMC – March 6\, 2025\n“Tantraloka – Time & the Breath – Part III” with Gary Gran CYT\, DAy\n7:00-8:30 p.m. CST\nEveryone is Welcome!\n  \n5:30-6:45 p.m.: Gentle Hatha Yoga \n7:00-7:30 p.m. Guided Meditation \n7:30-8:30 p.m.: “Tantraloka – Time & the Breath – Part II”  with Gary Gran\n8:30 p.m.: Evening Prayers \n\n	\n\n\nIn one of Swami Veda’s last public teachings before entering silence in 2010\, he introduced us to the “Siva Sutras”\, a primary text in Kashmir Shaivism. During those talks\, he recommended that we continue our study of Kashmir Shaivism\, and pointed us to the famous “Tantraloka” of Abhinavagupta. In particular\, he felt it was important for us to understand the correlation of time and the breath as taught in Chapter 6 of the “Tantraloka.” \nWhy is this teaching important for us to understand today? Through this teaching\, perhaps we can begin to understand our true relationship with time\, life on earth\, the universe\, and the very life force that sustains us all. \nThe “Tantraloka” (Light of the Tantras) is considered to be the magnum opus of Abhinavagupta\, the 10th-11thcentury polymath of Kashmir. In 37 chapters\, he synthesized the various schools of tantra into a unified whole. \nPlease join us as we contemplate our place in the universe together. All are welcome. \n“The tantras speak of a weave\, a warp and a woof of the universe… The entire universe is a grid of single energy\, in which grid I too have a little place\, a little corner. I am connected to the grid and cannot be separate from the grid… Experiencing it is the work of the Tantra.” – Swami Veda \nGary Gran\, CYT\, DAy. was in attendance at the 1985 workshop and will be sharing theteachings from his personal notes. He and his wife Cynthia have been treading the Himalayan path since the late 1970s. They met at the old Glenview Center in Illinois and have served the tradition in various capacities over the years. They are both certified yoga teachers and Ayurvedic educators. They have published more than eighty articles on yoga\, meditation and Ayurveda. They are currently wintering in Tucson\, Arizona where they enjoy desert gardening\, cooking and hiking. \nTo support the work of The Meditation Center and register you can donate here or make a general donation by clicking on the “donate” button on the “Support TMC” website page. \nOr donate through PayPal. \nThere is parking available for TMC visitors in the St. Boniface lot across the street from the Center.
URL:https://themeditationcenter.org/class/thursday-satsang-via-zoom-and-in-person-viewing-at-tmc-tantraloka-time-the-breath-part-iii-with-gary-gran-cyt-day-march-13-2025/
CATEGORIES:Thursday Satsangs
ATTACH;FMTTYPE=image/jpeg:https://themeditationcenter.org/wp-content/uploads/2025/01/Madhubani_Mahavidyas-e1738164391644.jpg
END:VEVENT
BEGIN:VEVENT
DTSTART;TZID=America/Chicago:20250320T190000
DTEND;TZID=America/Chicago:20250320T203000
DTSTAMP:20260419T160228
CREATED:20250219T225228Z
LAST-MODIFIED:20250311T175353Z
UID:22213-1742497200-1742502600@themeditationcenter.org
SUMMARY:Thursday Satsang via Zoom and In-Person Zoom Viewing at TMC: "The Yamas and the Niyamas" with Pandit Tejomaya - March 20\, 2025
DESCRIPTION:Thursday Satsang via Zoom and In-Person Zoom Viewing at TMC\n“The Yamas and the Niyamas” with Pandit Tejomaya\nMarch 20\, 2025\n7:00-8:30 p.m.\n  \n5:30-6:45 p.m.: Gentle Hatha Yoga \n7:00-7:30 p.m: Guided Meditation with Swami Radha Bharati \n7:30-8:30 p.m.: “The Yamas and the Niyamas” with Pandit Tejomaya \n8:30 p.m.: Evening Prayers \nYoga is Samadhi\, and the five Yamas and five Niyamas are the foundation of Patanjali’s eight-limbed path to this peak of consciousness.  Yet we won’t likely find an Ahimsa class at any local yoga studio or an Ishvara Pranidhana club down the street\, so how then to bring Patanjali’s first two limbs to life?  How do we transform the philosophy of an inspiring book into lived experience?\n\nThis question festered inside of Pandit Tejomaya for a number of years until finally\, by Guru’s grace\, it led to a seven year period of focused Sadhana.  Panditji will join us via Zoom on Thursday\, March 20th to remind us of his personal\, systematic approach to Sadhana of the Yamas and Niyamas.  The practice is quite simple but deeply personal wth the potential for lasting inner transformation.  There is certainly no “one way” to engage with the Yamas and Niyamas\, but finding a personally meaningful way to bring these ten gems of Patanjali’s philosophy to life or to greater prominence in our Sadhana can be especially helpful in these challenging times where fear can get out of hand.\n\nPandit Tejomaya completed his seven year focused Sadhana of the Yamas and Niyamas eight years ago as he entered into his Vanaprastha years and yet the work was never “finished”\, it simply opened new doors.  Tejomaya will share a bit of how the transformation is continuing on today.\n\nPandit Tejomaya was initiated in the Himalayan Tradition by Swami Veda in 2008. He was initiated as a Pandit by Pandit Dabral\, and received the name Tejomaya in 2012. He took the vows of a Vanaprastha\, or Forest Dweller\, in January of 2017.\n\nPandit Tejomaya resides on Gabriola Island in the Salish Sea of Canada’s British Columbia where he lives a life of sadhana and devotion.
URL:https://themeditationcenter.org/class/thursday-satsang-via-zoom-and-in-person-zoom-viewing-at-tmc-the-yamas-and-the-niyamas-with-pandit-tejomaya-march-20-2025/
CATEGORIES:Thursday Satsangs
ATTACH;FMTTYPE=image/jpeg:https://themeditationcenter.org/wp-content/uploads/2016/07/Pandit_Tejomaya_at_-the_Sea-Copy-1-1.jpg
END:VEVENT
BEGIN:VEVENT
DTSTART;TZID=America/Chicago:20250327T190000
DTEND;TZID=America/Chicago:20250327T203000
DTSTAMP:20260419T160228
CREATED:20250305T171254Z
LAST-MODIFIED:20250327T173532Z
UID:22270-1743102000-1743107400@themeditationcenter.org
SUMMARY:Thursday Satsang Via Zoom and In-Person Viewing at TMC: “- Yoga  and Sufism" with Gary Gran CYT\, DAy - March 27\, 2025
DESCRIPTION:Thursday Satsang Via Zoom and In-Person Viewing at TMC – March 27\, 2025\n” Yoga and Sufism” with Gary Gran CYT\, DAy\n7:00-8:30 p.m. CST\nEveryone is Welcome!\n  \n5:30-6:45 p.m.: Gentle Hatha Yoga  with Michael Snodgrass\n7:00-7:30 p.m. Guided Meditation Swami Ma Radha Bharati\n7:30-8:30 p.m.: “Yoga and Sufism”  with Gary Gran\n8:30 p.m.: Evening Prayers \n\n	\n\n\nPlease join us for an evening of Sufi stories\, jokes\, poetry\, prayers\, history\, inspiration\, and meditation! \nYoga and Sufism have much in common. They can be practiced in a religious context\, but they are not religions. They can be described as two of the ‘unifying streams in religion’\, representing the philosophy\, art and science of pure spirituality. They are methods of practice\, or pathways that point us to the inner experience of unity\, truth\, love\, and harmony with all that is. \nEven though Sufism has been described as the mystical teachings of Islam\, its roots began long before the advent of Islam. Sufism contains elements from Hellenistic\, Hermetic\, Christian\, Jewish\, Arab\, Turkish\, Persian\, and Indian sources. It is a beautiful expression of the Perennial Wisdom that can be traced in all the spiritual traditions of the world. \n“If anybody asks you\, ‘What is Sufism?’ … you may answer: ‘Sufism is the religion of the heart\, the religion in which the most important thing is to seek God in the heart of humanity.’  \n~Hazrat Inayat Khan~ \n\n	\n\nBoth Swami Rama and Swami Veda stressed the universality of world’s spiritual traditions. They taught the importance of understanding various traditions\, their basic philosophies and their practices. \n“Knowledge of various paths leads you to form your own conviction. The more you know\, the more you decide to learn. When you have sharpened the faculty of discrimination\, you firmly tread your path without any doubts.” \n      ~Swami Rama~ \n“Living With the Himalayan Masters” \n“A qualified preceptor in the Himalayan tradition… should be able to see the association between the Himalayan Tradition and other paths\, such as those of the Sufis\, the Tao\, Ch’an\, Zen\, theraveda\, Tibetan\, Christian and others – together with their basic texts and historical backgrounds.” \n      ~Swami Veda Bharati ~ \n“The Himalayan Tradition of Yoga Meditation” \n\n	\n\nPlease join us as we contemplate the beauty of the Sufi teachings. \nAll are welcome. \nGary Gran\, CYT\, DAy. was in attendance at the 1985 workshop and will be sharing theteachings from his personal notes. He and his wife Cynthia have been treading the Himalayan path since the late 1970s. They met at the old Glenview Center in Illinois and have served the tradition in various capacities over the years. They are both certified yoga teachers and Ayurvedic educators. They have published more than eighty articles on yoga\, meditation and Ayurveda. They are currently wintering in Tucson\, Arizona where they enjoy desert gardening\, cooking and hiking. \n\n	\n\n\nTo support the work of The Meditation Center and register you can donate here or  make a general donation by clicking on the “donate” button on the “Support TMC” website page. \nOr donate through PayPal. \nThere is parking available for TMC visitors in the St. Boniface lot across the street from the Center.
URL:https://themeditationcenter.org/class/thursday-satsang-via-zoom-and-in-person-viewing-at-tmc-yoga-and-sufism-with-gary-gran-cyt-day-march-27-2025/
CATEGORIES:Thursday Satsangs
ATTACH;FMTTYPE=image/jpeg:https://themeditationcenter.org/wp-content/uploads/2025/03/Sufi-Ghazali-e1743096534722.jpg
END:VEVENT
END:VCALENDAR