BEGIN:VCALENDAR
VERSION:2.0
PRODID:-//The Meditation Center - ECPv6.15.20//NONSGML v1.0//EN
CALSCALE:GREGORIAN
METHOD:PUBLISH
X-ORIGINAL-URL:https://themeditationcenter.org
X-WR-CALDESC:Events for The Meditation Center
REFRESH-INTERVAL;VALUE=DURATION:PT1H
X-Robots-Tag:noindex
X-PUBLISHED-TTL:PT1H
BEGIN:VTIMEZONE
TZID:America/Chicago
BEGIN:DAYLIGHT
TZOFFSETFROM:-0600
TZOFFSETTO:-0500
TZNAME:CDT
DTSTART:20250309T080000
END:DAYLIGHT
BEGIN:STANDARD
TZOFFSETFROM:-0500
TZOFFSETTO:-0600
TZNAME:CST
DTSTART:20251102T070000
END:STANDARD
BEGIN:DAYLIGHT
TZOFFSETFROM:-0600
TZOFFSETTO:-0500
TZNAME:CDT
DTSTART:20260308T080000
END:DAYLIGHT
BEGIN:STANDARD
TZOFFSETFROM:-0500
TZOFFSETTO:-0600
TZNAME:CST
DTSTART:20261101T070000
END:STANDARD
BEGIN:DAYLIGHT
TZOFFSETFROM:-0600
TZOFFSETTO:-0500
TZNAME:CDT
DTSTART:20270314T080000
END:DAYLIGHT
BEGIN:STANDARD
TZOFFSETFROM:-0500
TZOFFSETTO:-0600
TZNAME:CST
DTSTART:20271107T070000
END:STANDARD
END:VTIMEZONE
BEGIN:VEVENT
DTSTART;TZID=America/Chicago:20260312T190000
DTEND;TZID=America/Chicago:20260312T203000
DTSTAMP:20260422T001726
CREATED:20260305T000544Z
LAST-MODIFIED:20260312T165925Z
UID:23081-1773342000-1773347400@themeditationcenter.org
SUMMARY:Thursday Satsang Via Zoom and In-Person Viewing at TMC : “Supporting Memory as We Age: Mindfulness\, Memory & Remembrance – Part VI” with Gary Gran CYT\, DAy. - February 12\, 2026
DESCRIPTION:[vc_row][vc_column][vc_column_text css=””] \nThursday Satsang Via Zoom and In-Person Viewing at TMC\nMarch 12\, 2026\n“Supporting Memory as We Age:\nMindfulness\, Memory & Remembrance Part VI”\nwith Gary Gran CYT\, DAy.\n7:00-8:30 p.m. CT\nGary will be presenting via Zoom from his home in Arizona. The program will be streamed on the Center’s TV  in the Hall of the Tradition. \n[/vc_column_text][/vc_column][/vc_row][vc_row][vc_column][vc_column_text css=””] \n5:30-6:45 p.m.: In-Person Gentle Yoga  – Michael Snodgrass \n7:00-7:30 p.m. Meditation Guided by Gary Gran CYT\, DAy. \n7:30-8:30 p.m. ““Supporting Memory as We Age:  \nMindfulness\, Memory & Remembrance Part VI”\, Gary Gran CYT\, DAy. \n8:30 p.m.: Evening Chants \n8:40 p.m. Snacks \n[/vc_column_text][/vc_column][/vc_row][vc_row][vc_column][vc_column_text css=””][/vc_column_text][vc_column_text css=””]Our last session in this series will be very practical. We’ll detail anAyurvedic protocol for supporting memory as we age that everyone can practice. We’ll detail self-care practices\, specific foods & herbs\, yoga practices\, and lifestyle recommendations that will help keep your mind and memory healthy and happy. Please join us for our final session on mindfulness and memory\, as we reflect together on the teachings of Ayurveda and yoga\, remembering our connection to each other and all of life. \n“Mindfulness that the universe is flowing  through us all is called love.”  \n~Swami Veda Bharati~ \nThese days\, the practice of mindfulness promises us everything from better health and better relationships to success in business and sports. The American Psychological Association’s website provides a list of proven benefits including less somatic distress\, reduced depressive symptoms\, lower anxiety\, less neural reactivity and less emotional reactivity. In addition\, there are positives including better working memory\, better-sustained attention\, better focus\, more cognitive flexibility\, greater relationship satisfaction\, more self-insight\, enhanced intuition\, more equanimity\, greater morality\, greater empathy\, and greater compassion. With a list like that\, what are we waiting for? \nHow do we strengthen our practice of mindfulness? What’s the relationship of mindfulness to yoga? How is mindfulness connected to memory? What happens to our memory as we age? What are the important things to remember? \nIn this series of talks\, we’ll take a deep dive into the long history of mindfulness practice. We’ll listen deeply and reflect on the rich treasure trove of mindfulness and memory practices. And we’ll share specific practices as passed down in the Himalayan Tradition. \nAll are welcome. \n“This practice of constant mindfulness is taught universally by the yogis of the Himalayas\, irrespective of their affiliations.” \n~Swami Veda Bharati~ \nGary Gran\, CYT\, DAy. Gary and his wife Cynthia have been treading the Himalayan path since the late 1970s. They met at the old Glenview Center in Illinois and have served the tradition in various capacities over the years. They are both certified yoga teachers and Ayurvedic educators. They have published more than eighty articles on yoga\, meditation and Ayurveda. They are currently in winter residence in Tucson\, Arizona\, enjoying winter gardening\, cooking\, and hiking. \nTo support the work of The Meditation Center and register you can donate here  or make a general donation by clicking on the “donate” button on the “Support TMC” website page.   Or donate through PayPal. \nThere is parking available for TMC visitors in the St. Boniface lot \nacross the street from the Center. \n[/vc_column_text][/vc_column][/vc_row]
URL:https://themeditationcenter.org/class/thursday-satsang-via-zoom-and-in-person-viewing-at-tmc-mindfulness-in-ayurveda-mindfulness-memory-remembrance-part-vi-with-gary-gran-cyt-day-february-12-2026/
CATEGORIES:Thursday Satsangs
ATTACH;FMTTYPE=image/jpeg:https://themeditationcenter.org/wp-content/uploads/2025/02/StockCake-Buddhas-Golden-Peace_1739461614-e1739468097176.jpg
END:VEVENT
END:VCALENDAR