BEGIN:VCALENDAR
VERSION:2.0
PRODID:-//The Meditation Center - ECPv6.15.20//NONSGML v1.0//EN
CALSCALE:GREGORIAN
METHOD:PUBLISH
X-WR-CALNAME:The Meditation Center
X-ORIGINAL-URL:https://themeditationcenter.org
X-WR-CALDESC:Events for The Meditation Center
REFRESH-INTERVAL;VALUE=DURATION:PT1H
X-Robots-Tag:noindex
X-PUBLISHED-TTL:PT1H
BEGIN:VTIMEZONE
TZID:America/Chicago
BEGIN:DAYLIGHT
TZOFFSETFROM:-0600
TZOFFSETTO:-0500
TZNAME:CDT
DTSTART:20250309T080000
END:DAYLIGHT
BEGIN:STANDARD
TZOFFSETFROM:-0500
TZOFFSETTO:-0600
TZNAME:CST
DTSTART:20251102T070000
END:STANDARD
BEGIN:DAYLIGHT
TZOFFSETFROM:-0600
TZOFFSETTO:-0500
TZNAME:CDT
DTSTART:20260308T080000
END:DAYLIGHT
BEGIN:STANDARD
TZOFFSETFROM:-0500
TZOFFSETTO:-0600
TZNAME:CST
DTSTART:20261101T070000
END:STANDARD
BEGIN:DAYLIGHT
TZOFFSETFROM:-0600
TZOFFSETTO:-0500
TZNAME:CDT
DTSTART:20270314T080000
END:DAYLIGHT
BEGIN:STANDARD
TZOFFSETFROM:-0500
TZOFFSETTO:-0600
TZNAME:CST
DTSTART:20271107T070000
END:STANDARD
END:VTIMEZONE
BEGIN:VEVENT
DTSTART;TZID=America/Chicago:20260423T190000
DTEND;TZID=America/Chicago:20260423T203000
DTSTAMP:20260422T044430
CREATED:20260407T201500Z
LAST-MODIFIED:20260420T145755Z
UID:23186-1776970800-1776976200@themeditationcenter.org
SUMMARY:Thursday Satsang Via Zoom and In-Person Viewing at TMC : “The Power of Faith in Yoga” with Gary Gran CYT\, DAy. - April 23\, 2026
DESCRIPTION:[vc_row][vc_column][vc_column_text css=””] \nThursday Satsang Via Zoom and In-Person Viewing at TMC\nApril 23\, 2026\n“The Power of Faith in Yoga” with Gary Gran CYT\, DAy.\n7:00-8:30 p.m. CT\nGary will be presenting via Zoom from his home in Arizona. The program will be streamed on the Center’s TV  in the Hall of the Tradition. \n[/vc_column_text][/vc_column][/vc_row][vc_row][vc_column][vc_column_text css=””] \n5:30-6:45 p.m.: In-Person Gentle Yoga  – TBD \n7:00-7:30 p.m. Meditation Guided by Gary Gran CYT\, DAy. \n7:30-8:30 p.m. ““The Power of Faith in Yoga” with Gary Gran CYT\, DAy. \n8:30 p.m.: Evening Chants \n8:40 p.m. Snacks \n[/vc_column_text][/vc_column][/vc_row][vc_row][vc_column][vc_column_text css=””][/vc_column_text][vc_column_text css=””]. \nThe word faith can bring up many associations. Perhaps we think of the faith-based religions\, or professing faith in a belief system. Maybe we think of blind faith\, or of faith in relation to doubt. Many questions are bound to arise when we contemplate the meaning of faith. Is faith different from belief? Is there a difference between outer faith and inner faith? Where do we place our own faith? What do we believe in\, if anything? What is your definition of faith? Do we need to have faith to practice yoga? \nSwami Veda once replied to that question with a question: \n‘Do you need to have faith to play tennis?’ \nIn this talk\, we’ll take a look at what the yoga tradition has to say about faith. Then we’ll survey what other world traditions have to say. We may be surprised at the depth of the subject\, and how all the traditions tend to echo each other. \nPlease join us as we reflect on these questions and examine our own faith. \nAll are welcome. \n“True belief\, which is known as faith\, comes after direct experience. \nFaith born from direct experience becomes part of the aspirant’s being \n& such faith protects the aspirant like a mother protects her child.” \n– Swami Rama \nGary Gran\, CYT\, DAy. Gary and his wife Cynthia have been treading the Himalayan path since the late 1970s. They met at the old Glenview Center in Illinois and have served the tradition in various capacities over the years. They are both certified yoga teachers and Ayurvedic educators. They have published more than eighty articles on yoga\, meditation and Ayurveda. They are currently in winter residence in Tucson\, Arizona\, enjoying winter gardening\, cooking\, and hiking. \nTo support the work of The Meditation Center and register you can donate here or make a general donation by clicking on the “donate” button on the “Support TMC” website page. Or donate through PayPal. \nThere is parking available for TMC visitors in the St. Boniface lot \nacross the street from the Center. \n[/vc_column_text][/vc_column][/vc_row]
URL:https://themeditationcenter.org/class/thursday-satsang-via-zoom-and-in-person-viewing-at-tmc-the-power-of-faith-in-yoga-with-gary-gran-cyt-day-february-12-2026/
CATEGORIES:Thursday Satsangs
ATTACH;FMTTYPE=image/jpeg:https://themeditationcenter.org/wp-content/uploads/2025/07/GaryGran-scaled.jpg
END:VEVENT
END:VCALENDAR