BEGIN:VCALENDAR
VERSION:2.0
PRODID:-//The Meditation Center - ECPv6.15.20//NONSGML v1.0//EN
CALSCALE:GREGORIAN
METHOD:PUBLISH
X-ORIGINAL-URL:https://themeditationcenter.org
X-WR-CALDESC:Events for The Meditation Center
REFRESH-INTERVAL;VALUE=DURATION:PT1H
X-Robots-Tag:noindex
X-PUBLISHED-TTL:PT1H
BEGIN:VTIMEZONE
TZID:America/Chicago
BEGIN:DAYLIGHT
TZOFFSETFROM:-0600
TZOFFSETTO:-0500
TZNAME:CDT
DTSTART:20230312T080000
END:DAYLIGHT
BEGIN:STANDARD
TZOFFSETFROM:-0500
TZOFFSETTO:-0600
TZNAME:CST
DTSTART:20231105T070000
END:STANDARD
BEGIN:DAYLIGHT
TZOFFSETFROM:-0600
TZOFFSETTO:-0500
TZNAME:CDT
DTSTART:20240310T080000
END:DAYLIGHT
BEGIN:STANDARD
TZOFFSETFROM:-0500
TZOFFSETTO:-0600
TZNAME:CST
DTSTART:20241103T070000
END:STANDARD
BEGIN:DAYLIGHT
TZOFFSETFROM:-0600
TZOFFSETTO:-0500
TZNAME:CDT
DTSTART:20250309T080000
END:DAYLIGHT
BEGIN:STANDARD
TZOFFSETFROM:-0500
TZOFFSETTO:-0600
TZNAME:CST
DTSTART:20251102T070000
END:STANDARD
END:VTIMEZONE
BEGIN:VEVENT
DTSTART;TZID=America/Chicago:20241123T130000
DTEND;TZID=America/Chicago:20241123T153000
DTSTAMP:20260419T214030
CREATED:20241118T194437Z
LAST-MODIFIED:20241118T194457Z
UID:21720-1732366800-1732375800@themeditationcenter.org
SUMMARY:Feldenkrais Awareness Through Movement®  A process to enhance your yoga practice and overcome pain with Gabriele Lorf-Allen - November 23\, 2024;  1:00-3:30 p.m.
DESCRIPTION:Feldenkrais Awareness Through Movement®\nA process to enhance your yoga practice and overcome pain\nwith Gabriele Lorf-Allen\nNovember 23\, 2024\n1:00-3:30 p.m.\nCost: $25.00\nRegister here.\nIn this workshop\, we will shift the focus from movements that lead to a specific outcome\, i.e. a yoga asana\, to a movement process that potentiates your brain’s plasticity\, thereby improving any desired outcome spontaneously and effortlessly. It is a process of approximating a result\, discovering your limiting habits\, and accessing new possibilities. \nInstructions: \n1. The movements will be slow and easy. Dress accordingly and wear loose-fitting clothes. \n2. Bring a folded towel or firm pillow (garden kneeling pads work great) to support your head when lying on the side\, high enough to fill the space between your head and shoulder. \n3. Have a chair or stool in the room (we may use it) \n4. Adjust your camera to capture your entire body lying and sitting on the floor. \nEarly on\, Gabriele worked as a physical therapist in hospitals and private practice. Her interest in rehabilitation from brain trauma led her to study the Feldenkrais Method\, which has informed every aspect of her life for 30 years. Over the past decade\, Gabriele has had the opportunity to share this transformational movement method with HYMT sangha members at meditation retreats. She maintains a private practice in Oakland\, CA\, working with children and adults.
URL:https://themeditationcenter.org/class/feldenkrais-awareness-through-movement-a-process-to-enhance-your-yoga-practice-and-overcome-pain-with-gabriele-lorf-allen-november-23-2024-100-330-p-m/
CATEGORIES:Workshops
ATTACH;FMTTYPE=image/jpeg:https://themeditationcenter.org/wp-content/uploads/2024/11/TMC-workshop-title-bio-and-portrait.jpg
END:VEVENT
END:VCALENDAR