BEGIN:VCALENDAR
VERSION:2.0
PRODID:-//The Meditation Center - ECPv6.15.20//NONSGML v1.0//EN
CALSCALE:GREGORIAN
METHOD:PUBLISH
X-WR-CALNAME:The Meditation Center
X-ORIGINAL-URL:https://themeditationcenter.org
X-WR-CALDESC:Events for The Meditation Center
REFRESH-INTERVAL;VALUE=DURATION:PT1H
X-Robots-Tag:noindex
X-PUBLISHED-TTL:PT1H
BEGIN:VTIMEZONE
TZID:America/Chicago
BEGIN:DAYLIGHT
TZOFFSETFROM:-0600
TZOFFSETTO:-0500
TZNAME:CDT
DTSTART:20220313T080000
END:DAYLIGHT
BEGIN:STANDARD
TZOFFSETFROM:-0500
TZOFFSETTO:-0600
TZNAME:CST
DTSTART:20221106T070000
END:STANDARD
BEGIN:DAYLIGHT
TZOFFSETFROM:-0600
TZOFFSETTO:-0500
TZNAME:CDT
DTSTART:20230312T080000
END:DAYLIGHT
BEGIN:STANDARD
TZOFFSETFROM:-0500
TZOFFSETTO:-0600
TZNAME:CST
DTSTART:20231105T070000
END:STANDARD
BEGIN:DAYLIGHT
TZOFFSETFROM:-0600
TZOFFSETTO:-0500
TZNAME:CDT
DTSTART:20240310T080000
END:DAYLIGHT
BEGIN:STANDARD
TZOFFSETFROM:-0500
TZOFFSETTO:-0600
TZNAME:CST
DTSTART:20241103T070000
END:STANDARD
END:VTIMEZONE
BEGIN:VEVENT
DTSTART;TZID=America/Chicago:20231001T082000
DTEND;TZID=America/Chicago:20231001T093000
DTSTAMP:20260421T223522
CREATED:20230126T172542Z
LAST-MODIFIED:20230925T221431Z
UID:20477-1696148400-1696152600@themeditationcenter.org
SUMMARY:In Person and Via Zoom – Sunday Morning Guided Meditation with Swami Radha Bharati
DESCRIPTION: In Person and Via Zoom – Sunday Morning Guided Meditation\nwith Swami Radha Bharati\n8:20 A.M. – 9:15 A.M.\nJoin for Morning Prayers: 8:20-8:30 a.m.\nSunday Morning Meditation: 8:30-9:15 a.m.\n\nJoin Swami Radha Bharati on Zoom for a guided meditation on Sunday from 8:20 a.m. – 9:15 a.m.
URL:https://themeditationcenter.org/class/via-zoom-sunday-morning-guided-meditation-with-swami-radha-bharati-2-2023-10-01/
CATEGORIES:Sunday Morning Meditation
ATTACH;FMTTYPE=image/jpeg:https://themeditationcenter.org/wp-content/uploads/2019/08/Swami_Radha_2_2018_wp-300x217.jpg
END:VEVENT
BEGIN:VEVENT
DTSTART;TZID=America/Chicago:20231001T093000
DTEND;TZID=America/Chicago:20231001T123000
DTSTAMP:20260421T223522
CREATED:20230914T185237Z
LAST-MODIFIED:20230925T221225Z
UID:20499-1696152600-1696163400@themeditationcenter.org
SUMMARY:Seminar "Decade of Loving Transformation" with Swami Ritavan Bharati - October 1\, 2023
DESCRIPTION:Seminar “Decade of Loving Transformation”\nwith Swami Ritavan Bharati\nOctober 1\, 2023\n 9:30 a.m.-12:30 p.m.\nSuggested donation $20.00\nRSVP here for October 1st\n\nOur “Decade of Loving Transformation” is underway and enlivening the spiritual lives of initiates across the globe. \n\nDuring Swami Ritavan’s yearly visit to the Meditation Center\, the community members are invited to come and experience a deepening understanding of inner peace and total well-being. The theme of “Loving Transformation” will be addressed through the Buddhist Heart Sutra\, the Christian Beatitudes\, along with the Yoga Sutras\, and Yoga Nidra practices. The presentations\, discussions\, and practices will inspire and enhance aspirations for the coming year.
URL:https://themeditationcenter.org/class/seminar-decade-of-loving-transformation-with-swami-ritavan-bharati-september-30-october-1-2023-2023-10-01/
CATEGORIES:Special Events,Workshops
ATTACH;FMTTYPE=image/jpeg:https://themeditationcenter.org/wp-content/uploads/2020/01/Swami-Ritavan_wp.jpg
END:VEVENT
BEGIN:VEVENT
DTSTART;TZID=America/Chicago:20231002T190000
DTEND;TZID=America/Chicago:20231002T210000
DTSTAMP:20260421T223522
CREATED:20230829T220051Z
LAST-MODIFIED:20231001T220338Z
UID:20462-1696273200-1696280400@themeditationcenter.org
SUMMARY:No class on October 2nd...will resume on October 9th...Yoga Sutras” Fall 2023 Series - Vibhuti Pada with Dr. Stephen Parker (Stoma) Psy.D.\,  500-RYT
DESCRIPTION:“Yoga Sutras” Fall 2023 Series – Vibhuti Pada\nwith Dr. Stephen Parker (Stoma) Psy.D.\,  500-RYT\n  \nMondays: September 11\, 18\, 25 and October 9\, 2023\nNo class on October 2nd\n7:00 p.m. – 9:00 p.m.\nBegins at 7:00 p.m. with Meditation guided by Stoma\n  \nStudy of the “Yoga Sutras of Patanjali” with Dr. Stephen Parker (Stoma) Psy.D.\,  500-RYT\n\nChapter 3\, the Vibhuti Pada\n\n	\n\n\n\nCost: $55.00 for the series\n$15.00 for drop-in either in person or via Zoom\nIf you live in a time zone that does not allow for you to attend the Yoga Sutras sessions in real time\, register for the 4-week series and you will  be sent Vimeo links to the recorded sessions as soon as they are uploaded to Vimeo \n\n\nRegister here for the 4-sessions series.\n\nRegister here for a Single Session on September 11\, 2023\n\nRegister here for a Single Session on September 18\, 2023\n\nRegister here for a Single Session on September 25\, 2023\n\nRegister here for a Single Session on October 9\, 2023\n\n\n\n\n\n\nThe Fall 2022 series of the “Yoga Sutras” with Stoma is being offered  to anyone who desires to learn more regarding the gifts of meditation and yoga given through this text.\n\n\nEveryone is welcome!\n\n\n\nJoin Dr. Stephen Parker (Stoma) for this special ongoing study of the text\, the “Yoga Sutras of Patanjali.” We are continuing the study of the  the third chapter\, the “Vibhuti Pada.”\n\nWe will be using the text\, either “The Yoga Philosophy of Patanjali\,”  or “The Yoga Philosophy of Patanjali with Bhasvati\,” both by Swami Hariharananda Aaranya.  Or you can use any commentary on the “Yoga Sutras” that you have available.
URL:https://themeditationcenter.org/class/yoga-sutras-fall-2023-series-vibhuti-pada-with-dr-stephen-parker-stoma-psy-d-500-ryt-2023-10-02/
CATEGORIES:Classes,Philosophy
ATTACH;FMTTYPE=image/jpeg:https://themeditationcenter.org/wp-content/uploads/2017/06/stoma2_wp-1-1.jpg
END:VEVENT
BEGIN:VEVENT
DTSTART;TZID=America/Chicago:20231005T190000
DTEND;TZID=America/Chicago:20231005T203000
DTSTAMP:20260421T223522
CREATED:20230914T190323Z
LAST-MODIFIED:20230925T221749Z
UID:20500-1696532400-1696537800@themeditationcenter.org
SUMMARY:Thursday Satsang In Person and Via Zoom:  "I Am Not The Body" with  Daniel Hertz\, MS\, BCB\, E-RYT 500 - October 5\, 2023
DESCRIPTION:Thursday Satsang In Person and Via Zoom:  – October 5\, 2023\n“I AM NOT THE BODY”\n with Daniel Hertz\, MS\, BCB\, E-RYT 500\n7:oo – 8:30 p.m.\nNew Time – 5:30-6:45 p.m.: Gentle Hatha Yoga with Chris Young\n\n7:00-7:30 p.m.: Guided Meditation with Swami Ma Radha Bharati\n\n7:30-8:30 p.m.: “I am not the Body” with Daniel Hertz\, MS\, BCB\, E-RYT 500\n\n8:30 p.m.: Evening Prayers\n\n8:40 p.m.: Snacks\nTHERE IS NO SET PRESCRIPTION for moving from fear to courage. Everyone must find what works best for them. Some might find inspiration from their yoga and meditation practice. Others may find serenity in their religious observances. There are many other practices such as cognitive therapy and bodywork that can also help someone reach that place of inner peace. When Daniel was faced with a shocking diagnosis four months ago\, he struggled to get beyond the overwhelming fear. Every thought of his approaching surgery brought a wave of anxiety. Please join us as he shares and discusses what helped him move to a place of acceptance.  \nBio: Daniel Hertz\, MS\, BCB\, E-RYT 500 has been on the faculty of The Meditation Center since 1995. He is the author of a memoir entitled Everything is A Little Bit Alright: yoga\, meditation\, and a dog named Roy. It is available on Amazon at this link.
URL:https://themeditationcenter.org/class/thursday-satsang-in-person-and-via-zoom-i-am-not-the-body-with-daniel-hertz-ms-bcb-e-ryt-500-october-5-2023/
ATTACH;FMTTYPE=image/jpeg:https://themeditationcenter.org/wp-content/uploads/2023/09/lama-and-Daniel-scaled.jpg
END:VEVENT
BEGIN:VEVENT
DTSTART;TZID=America/Chicago:20231006T190000
DTEND;TZID=America/Chicago:20231006T210000
DTSTAMP:20260421T223522
CREATED:20230919T214702Z
LAST-MODIFIED:20230919T214702Z
UID:20507-1696618800-1696626000@themeditationcenter.org
SUMMARY:"Subtle Energetics in Yoga Practice" with Dr. Dale Buegel\, In Person at TMC and Via Zoom\, October 6-8\, 2023
DESCRIPTION:“Subtle Energetics in Yoga Practice” with Dr. Dale Buegel\nOctober 6-8\, 2023\nIn Person at TMC and Via Zoom\nRegistration coming soon.\nIf you are able\, it is good to attend this workshop in person as you will have the opportunity to perform asana and pranayama practices under the expert guidance of Dr. Buegel. \nFriday Evening 7:00 – 9:00 pm \n“The Effects of Āsana Practice on Prāṇamāya Koṣa” \nThe literal translation of “hatha yoga” is to unite or bind together the energetic forces of piṅgalā and iḍā\, the solar and lunar energies. In this workshop we will examine the passive and active effects of performing āsanas on the subtle energetic anatomy of prāṇa. \n  \nSaturday Morning 10:00 am – 12:00 noon \n“Prāṇamāya Koṣa and Cakras I” \nSaturday’s cakra sessions are for those who wish to understand the subtle energetic anatomy of the cakras and explore methods to study\, balance\, and cultivate those energies. Balancing the energies at a cakra is essential to opening that aspect of a cakra which embodies consciousness. \nSaturday Afternoon 1:30 – 3:30 pm \n“Prāṇamāya Koṣa and Cakras II” \n  \nSunday Morning 10:00 am – 12:00 noon \n“The Role of Śakti in Prāṇāyāma Practice” \nThis workshop will focus on opening the lower gate at mūlādhāra cakra and facilitating the role of Śakti in energizing the twelve cakras. Please wear non-binding clothing appropriate for prāṇāyāma practice. Retention during these practices will be optional for those who are prepared and experienced with practices involving retention. \nDr. Buegel was a student of Swami Rama and has practiced and taught hatha yoga and meditation for over 40 years in seminars\, teacher training programs\, and specialty workshops. His expertise in the fine points of yoga techniques have earned him the respect and appreciation of students in the U.S. and abroad. He is certified by Yoga Alliance E-RYT 500\, YACEP.
URL:https://themeditationcenter.org/class/subtle-energetics-in-yoga-practice-with-dr-dale-buegel-in-person-at-tmc-and-via-zoom-october-6-8-2023/2023-10-06/
CATEGORIES:Workshops
ATTACH;FMTTYPE=image/jpeg:https://themeditationcenter.org/wp-content/uploads/2019/05/chakras44_FB-1.jpg
END:VEVENT
BEGIN:VEVENT
DTSTART;TZID=America/Chicago:20231008T082000
DTEND;TZID=America/Chicago:20231008T093000
DTSTAMP:20260421T223522
CREATED:20231011T141137Z
LAST-MODIFIED:20231011T141300Z
UID:20585-1696753200-1696757400@themeditationcenter.org
SUMMARY:In Person and Via Zoom – Sunday Morning Guided Meditation with Swami Radha Bharati
DESCRIPTION: In Person and Via Zoom – Sunday Morning Guided Meditation\nwith Swami Radha Bharati\n8:20 A.M. – 9:15 A.M.\nJoin for Morning Prayers: 8:20-8:30 a.m.\nSunday Morning Meditation: 8:30-9:15 a.m.\n\nJoin Swami Radha Bharati on Zoom for a guided meditation on Sunday from 8:20 a.m. – 9:15 a.m.
URL:https://themeditationcenter.org/class/in-person-and-via-zoom-sunday-morning-guided-meditation-with-swami-radha-bharati-2023-10-08/2023-10-08/
CATEGORIES:Sunday Morning Meditation
ATTACH;FMTTYPE=image/jpeg:https://themeditationcenter.org/wp-content/uploads/2019/08/Swami_Radha_2_2018_wp-300x217.jpg
END:VEVENT
BEGIN:VEVENT
DTSTART;TZID=America/Chicago:20231012T190000
DTEND;TZID=America/Chicago:20231012T203000
DTSTAMP:20260421T223522
CREATED:20230914T190836Z
LAST-MODIFIED:20230914T190836Z
UID:20501-1697137200-1697142600@themeditationcenter.org
SUMMARY:Thursday Satsang In-Person and Via Zoom: "Ayurveda Self-Care for Autumn" with Cynthia Gran - October 12\, 2023
DESCRIPTION:Thursday Satsang In-Person and Via Zoom – October 12\, 2023\n“Ayurveda Self-Care for Autumn”\nwith Cynthia Gran\, E-RYT 500\, YACEP\n  \n6:00-7:00 p.m.: Gentle Hatha Yoga with  Sunita Gangopadhyay\n\n7:00-7:30 p.m.: Guided Meditation with Swami Radha Bharati\n\n7:30-8:30 p.m.: “Ayurveda Self Care for Autumn”\nCynthia Gran\,  E-RYT 500\, YACEP\n\n8:30 p.m.: Evening Prayers\n\n8:40 p.m.: Snacks\n\nDetails to come. \nCynthia and Gary Gran have been treading the Himalayan path since the late 1970s. They met at the old Glenview Center in Illinois and have served the Tradition in various capacities over the years. They are both certified yoga teachers and Ayurvedic practitioners. They have published more than eighty articles on yoga\, meditation and Ayurveda. They are currently enjoying desert gardening\, cooking\, and hiking at their home in Tucson\, Arizona.\n\nCynthia Gran\, E-RYT 500\, YACEP
URL:https://themeditationcenter.org/class/thursday-satsang-in-person-and-via-zoom-ayurveda-self-care-for-autumn-with-cynthia-gran-october-12-2023/
CATEGORIES:Thursday Satsangs
ATTACH;FMTTYPE=image/jpeg:https://themeditationcenter.org/wp-content/uploads/2023/05/Cynthia_and_Gary_Gran-2.jpeg
END:VEVENT
BEGIN:VEVENT
DTSTART;TZID=America/Chicago:20231015T100000
DTEND;TZID=America/Chicago:20231015T233000
DTSTAMP:20260421T223522
CREATED:20231011T140249Z
LAST-MODIFIED:20231011T140249Z
UID:20562-1697364000-1697412600@themeditationcenter.org
SUMMARY:Via Zoom - Sunday Book Study Group/Satsang with Swami Ma Radha Bharati \, Michael Smith\, and Jim Nelson
DESCRIPTION:Sunday Book Study Group/Satsang Via Zoom\nwith Swami Ma Radha Bharati \, Michael Smith\, and Jim Nelson\n10:00 A.M. – 11:45 A.M.\n\nTime:  10:00 a.m. – 11:45 a.m. \nSwami Radha\,  Jim\, and Michael will continue the study of spiritual topics in 2023. The Book Club is now reading “Sacred Journey_ Living Purposefully and Dying Gracefully” by Swami Rama \n  \nSacred Journey\nLiving Purposefully and Dying Gracefully\nWe hope you’ve had a wonderful summer and are enjoying yourselves this fall. \nThe Book Study will resume Sunday morning October 15th at 10:00 a.m. with Swami Rama’s SACRED JOURNEY. This book complements the Ten-Year Plan\, outlined by Swami Ritavan\, which focuses on Vanaprastha and devising a blueprint for the rest of one’s life.
URL:https://themeditationcenter.org/class/via-zoom-sunday-book-study-group-satsang-with-swami-ma-radha-bharati-michael-smith-and-jim-nelson/2023-10-15/
CATEGORIES:Sunday Satsangs
ATTACH;FMTTYPE=image/jpeg:https://themeditationcenter.org/wp-content/uploads/2023/10/Sacred_Journey_REd_Cover_.jpg
END:VEVENT
BEGIN:VEVENT
DTSTART;TZID=America/Chicago:20231015T200000
DTEND;TZID=America/Chicago:20231015T213000
DTSTAMP:20260421T223522
CREATED:20231011T154713Z
LAST-MODIFIED:20231011T155036Z
UID:20594-1697400000-1697405400@themeditationcenter.org
SUMMARY:In Person at TMC and via Zoom:The Meditation Center is Celebrating the Nine Days/Nights of Navaratri  October 15 - October 24\, 2023
DESCRIPTION:In Person at TMC and via Zoom\nThe Meditation Center is Celebrating the Nine Days/Nights of Navaratri\nOctober 15 – October 24\, 2023\nImmortal She is\, pervading all things that grow downward and all things that extend upwards. It is by Her brilliance and light that the darkness of ignorance vanishes. She\, Devi\, the Divine One who has expounded Herself as the very being of the universe and the custodian. Mother Deity\, the Divine Mother\, Shri who is the refuge of all forms\, of all thoughts and sentiments – all Her expressions in the power of will\, power of knowledge\, power of creativity – Lalita\, the tender one\, the gentle one\, Tripura Sundari\, the Beauty of the Three Realms\, She whose name is beauty. She\, who has revealed Herself in Creation\, through the powers of Shree. (The meaning of this event for which Sadhakas celebrate) \nSunday\, October 15\, 8:00 p.m.: Navaratri Puja in the Meditation Room. Swami Veda’s recitation of 1\,000 names of Lalita after the puja. \nMonday\, October 16 to Monday\, October 23\, 8:45 p.m.: Via Zoom Swami Veda’s recording of 1\,000 names of Lalita. \nOn Navaratri’s last evening\, Tuesday\, October 24\, 8:00 p.m.: Navaratri concluding puja will be held in the Meditation room after the 1\,000 names of Lalita recitation. \nListen here and follow the 1\,000 Names of Lalita\, the Mother Divine\, “Sri Lalita Sahasranama” recited by Swami Veda Bharati \nRead here the 1\,000 Names of Lalita\, the Mother Divine\, “Sri Lalita Sahasranama.”
URL:https://themeditationcenter.org/class/in-person-at-tmc-and-via-zoomthe-meditation-center-is-celebrating-the-nine-days-nights-of-navaratri-october-15-october-24-2023/2023-10-15/
CATEGORIES:Special Events
ATTACH;FMTTYPE=image/jpeg:https://themeditationcenter.org/wp-content/uploads/2017/06/Mother_of_the-_Universe_Lakshmi_2_wp-1-1.jpg
END:VEVENT
BEGIN:VEVENT
DTSTART;TZID=America/Chicago:20231019T190000
DTEND;TZID=America/Chicago:20231019T203000
DTSTAMP:20260421T223522
CREATED:20230927T210413Z
LAST-MODIFIED:20231019T224035Z
UID:20550-1697742000-1697747400@themeditationcenter.org
SUMMARY:Thursday Satsang with In-Person Viewing at TMC and via Zoom: Viewing of the Video "Viewing of the Recorded Talk   "Love in the Yoga Sutra\, Where is It?"presented by Salvatore Zambito on June 17\, 2021 - October 19\, 2023
DESCRIPTION:Thursday Satsang with In-Person Viewing at TMC and via Zoom:\nIn remembrance\nViewing of the Recorded Talk\n“Love in the Yoga Sutra\, Where is It?”\npresented by Salvatore Zambito on June 17\, 2021.\nIn remembrance\n October 19\, 2023\n  \n5:30-6:45 p.m.: Gentle Hatha Yoga with Susan Guthrie \n7:00-7:30 p.m.: Guided Meditation with Swami Radha Bharati \n7:30-8:30 p.m.: Viewing of the Recorded Talk “Love in the Yoga Sutra\, Where is It?” \npresented by Salvatore Zambito on June 17\, 2021. \n8:30 p.m.: Evening Prayers \n8:40 p.m.: Snacks \n\n	\n\n“A Loving Tribute to Salvatore from Stoma”\nSalvatore was a great student of the yoga-sutras and his writings\, “The Unadorned Thread” and the “Yoga Sutras Dictionary” are both very helpful tools for going deeper into your understanding of the fine points of the sutras. He was a sadhaka who well understood the continual attention of the siddhas upon genuine sadhakas. He once went to an astrologer to have his chart done. After their conversation about the chart\, the astrologer told him that while they were talking there were five subtle beings sitting around him. “Who were they?” Salvatore had no awareness of them but he understood that these were undoubtedly the siddhas that attend upon sincere practitioners who have established asteya\, non-stealing\, in their personality. By non-stealing\, Patanjali means the continual re-evaluation of what is mine that we go through as we grow. As less and less becomes mine\, we become more and more generous. That generosity of heart is answered by the silent gaze of the siddhas of the lineage and the help they bring in moments when we are moving in harmony with our dharma. Bask in the warmth of that light\, wise brother. \n\n	\n\n\n“Love in the Yoga Sutras”\nAfter thanking Salvatore for presenting his beautiful June 17\, 2021 Thursday Satsang lecture\, “Love in the Yoga Sutras\,” Salvatore responded. \n“… In about 1984 I had a lengthy conversation with a Tibetan rinpoche. One of the areas he shared was an understanding that universes emerge from a thematic intention\, mostly Will\, Love and Wisdom\, and Active Intelligence. It was his contention that this is a Love-Wisdom universe\, hence the loving wisdom nature of our great spiritual leaders…” \nSalvatore exemplified this loving wisdom nature in his teachings and presence. Thank you\, Salvatore\, for being an expression of this Love-Wisdom for us in this realm. \nTo learn more regarding Salvatore’s life’s work read his bio here courtesy of The Yoga Sutras Institute \n\n	\n\n\n“Something Swamiji Said”\nby Four Sadhakas\n“Salvatore’s Story”\n“One cool\, sunny afternoon in Boise\, I was driving Swamiji\, in his previous incarnation as Pandit Arya\, to our next engagement. He turned to me and I heard him say\, “So what!?” \nI glanced at him quizzically and after a pause\, he continued\, “ ‘So what’ may be the most important question a teacher is ever required to answer and students are always within their rights to ask it. Actually\, it is the duty of a student to determine the applicability of the material under consideration. If you can’t answer that question\, you simply don’t know where you are going with the presentation. Consider empowering your students to ask\, “So what?” at any time. It will serve to keep you alert and they may enjoy themselves.” \nI followed Panditji’s advice at the next class at Boise State. From then on students would challenge me with\, “So what?\,” often quite unexpectedly\, and we had great times together exploring why anything I said might matter. On a couple of occasions I had to admit that what I was saying probably didn’t matter\, at least not very much\, but I enjoyed the topic. The students were satisfied with the honesty of the reply and\, good-humoredly\, joined in with me. \nOn a little expanded scale\, I find myself often asking\, “So what?” in the widest variety of human activities. It has served as an unusually effective focus for self-witnessing of habitual response and deepening emotional stability as inappropriate reactions come to be seen clearly and fresh action taken – or not taken. \nOf course\, I still invite students to challenge me with “So what?” I never know what I’ll learn from their inquiry!” \nThank\, you\, Swamiji. \n– Salvatore Zambito \nCourtesy of AHYMSIN.org. Read the entire article here. \n.
URL:https://themeditationcenter.org/class/thursday-satsang-with-in-person-viewing-at-tmc-and-via-zoom-viewing-of-the-video-patanjali-in-eternity-the-legend-of-shri-patanjali-the-%e1%b9%9bi%e1%b9%a3hi-sage-of-yoga-with/
CATEGORIES:Thursday Satsangs
ATTACH;FMTTYPE=image/jpeg:https://themeditationcenter.org/wp-content/uploads/2020/09/Photo-Patty-b-w-small-1-e1697757994828.jpg
END:VEVENT
BEGIN:VEVENT
DTSTART;TZID=America/Chicago:20231026T190000
DTEND;TZID=America/Chicago:20231026T203000
DTSTAMP:20260421T223522
CREATED:20230927T211827Z
LAST-MODIFIED:20230927T211928Z
UID:20552-1698346800-1698352200@themeditationcenter.org
SUMMARY:Thursday Satsang Via Zoom and In-Person Viewing Only: "Ayurvedic Study Group" with Gary Gran CYT\, DAy. and Cynthia Gran DAy. E-RYT 500\, YACEP on October 26\,  2023 at 7:00 p.m. – 8:30 p.m. CDT
DESCRIPTION:Thursday Satsang Via Zoom and In-Person Viewing at TMC –  October 26\, 2023\n“Ayurvedic Study Group”\nwith Gary Gran\, CYT\, DAy. and Cynthia Gran\, DAy. E-RYT 500\, YACEP\n7:00 p.m. – 8:30 p.m. CDT\n6:00-7:00 p.m.: Gentle Hatha Yoga with Eric Ness\n\n7:00-7:30 p.m.: Guided Meditation with Swami Radha Bharati\n\n7:30-8:30 p.m.: “Ayurvedic Study Group”\nwith Gary Gran\, CYT\, DAy. and Cynthia Gran DAy. E-RYT 500\, YACEP\n\n8:30 p.m.: Evening Prayers\n\n8:40 p.m. – Snacks\n\n	\n\n\n\nPlease join us for the next meeting of our Ayurvedic study group. Attendance at prior meetings is not required. All are welcome. For this class\, we’ll move to Chapter 26 of the Charaka Samhita to continue our discussion of rasa\, the six tastes. Here\, we’ll learn of an historic conference of the sages who raised questions about rasa\, and we’ll hear what they concluded. This will give us a chance to raise our own questions about rasa\, and to deepen our appreciation of ‘the heart of Ayurveda’. Please bring your ‘beginner’s mind’ and join us as we listen deeply and reflect on the words of the sages. \n  \n“Taste occurs as a sensation on the tongue. The underlying elements of taste are water and earth. Variations in taste are caused by the other three elements of fire\, air\, and ether.” – \n“Charaka Samhita”\, Sutrasthana\, 1.64 \nGary and Cynthia Gran have been treading the Himalayan path since the late 1970s. They met at the old Glenview Center in Illinois and have served the tradition in various capacities over the years. They are both certified yoga teachers and Ayurvedic educators. They have published more than eighty articles on yoga\, meditation and Ayurveda. They are once again enjoying desert gardening\, cooking and hiking at their home in Tucson\, Arizona. \nGary Gran\, DAy. CYT \nCynthia Gran\, DAy. E-RYT 500\, YACEP \n\n\n\nGary’s  blog is ayurvedalessons.com.
URL:https://themeditationcenter.org/class/thursday-satsang-via-zoom-and-in-person-viewing-only-ayurvedic-study-group-with-gary-gran-cyt-day-and-cynthia-gran-on-october-26-2023-at-700-p-m-830-p-m-cdt/
CATEGORIES:Thursday Satsangs,Thursday Satsangs
ATTACH;FMTTYPE=image/jpeg:https://themeditationcenter.org/wp-content/uploads/2021/05/image.jpeg
END:VEVENT
END:VCALENDAR